BEGIN:VCALENDAR
VERSION:2.0
PRODID:-//Pier Village - ECPv6.15.18//NONSGML v1.0//EN
CALSCALE:GREGORIAN
METHOD:PUBLISH
X-WR-CALNAME:Pier Village
X-ORIGINAL-URL:https://piervillage.com
X-WR-CALDESC:Events for Pier Village
REFRESH-INTERVAL;VALUE=DURATION:PT1H
X-Robots-Tag:noindex
X-PUBLISHED-TTL:PT1H
BEGIN:VTIMEZONE
TZID:UTC
BEGIN:STANDARD
TZOFFSETFROM:+0000
TZOFFSETTO:+0000
TZNAME:UTC
DTSTART:20230101T000000
END:STANDARD
END:VTIMEZONE
BEGIN:VEVENT
DTSTART;TZID=UTC:20240929T110000
DTEND;TZID=UTC:20240929T180000
DTSTAMP:20260425T201100
CREATED:20230531T191010Z
LAST-MODIFIED:20230531T191010Z
UID:16074-1727607600-1727632800@piervillage.com
SUMMARY:HIGH TIDE MAKERS + ARTISAN MARKET
DESCRIPTION:Join us from 11AM to 6PM at the High Tide Makers + Artisan open – air Market offering unique creations from local makers and artisans on the Carousel Promenade. \nPerformances by The School of Rock \nWhether you are looking for shopping or dining for something quick and casual or are interested in fine dining\, you’ll find it here. As the most exciting beachfront destination at the Jersey Shore\, Pier Village offers family friendly dining and an array of specialty shops and boutiques with a backdrop of breathtaking views of the ocean. \n 
URL:https://piervillage.com/event/high-tide-makers-artisan-market-3/2024-09-29/
LOCATION:Carousel Stage | Pier Village
CATEGORIES:Family,Shop
ATTACH;FMTTYPE=image/webp:https://piervillage.com/wp-content/uploads/2023/03/artisan-market.webp
END:VEVENT
BEGIN:VEVENT
DTSTART;TZID=UTC:20240922T110000
DTEND;TZID=UTC:20240922T180000
DTSTAMP:20260425T201100
CREATED:20230531T191010Z
LAST-MODIFIED:20230531T191010Z
UID:16073-1727002800-1727028000@piervillage.com
SUMMARY:HIGH TIDE MAKERS + ARTISAN MARKET
DESCRIPTION:Join us from 11AM to 6PM at the High Tide Makers + Artisan open – air Market offering unique creations from local makers and artisans on the Carousel Promenade. \nPerformances by The School of Rock \nWhether you are looking for shopping or dining for something quick and casual or are interested in fine dining\, you’ll find it here. As the most exciting beachfront destination at the Jersey Shore\, Pier Village offers family friendly dining and an array of specialty shops and boutiques with a backdrop of breathtaking views of the ocean. \n 
URL:https://piervillage.com/event/high-tide-makers-artisan-market-3/2024-09-22/
LOCATION:Carousel Stage | Pier Village
CATEGORIES:Family,Shop
ATTACH;FMTTYPE=image/webp:https://piervillage.com/wp-content/uploads/2023/03/artisan-market.webp
END:VEVENT
BEGIN:VEVENT
DTSTART;TZID=UTC:20240908T110000
DTEND;TZID=UTC:20240908T180000
DTSTAMP:20260425T201100
CREATED:20230531T191010Z
LAST-MODIFIED:20230531T191010Z
UID:16072-1725793200-1725818400@piervillage.com
SUMMARY:HIGH TIDE MAKERS + ARTISAN MARKET
DESCRIPTION:Join us from 11AM to 6PM at the High Tide Makers + Artisan open – air Market offering unique creations from local makers and artisans on the Carousel Promenade. \nPerformances by The School of Rock \nWhether you are looking for shopping or dining for something quick and casual or are interested in fine dining\, you’ll find it here. As the most exciting beachfront destination at the Jersey Shore\, Pier Village offers family friendly dining and an array of specialty shops and boutiques with a backdrop of breathtaking views of the ocean. \n 
URL:https://piervillage.com/event/high-tide-makers-artisan-market-3/2024-09-08/
LOCATION:Carousel Stage | Pier Village
CATEGORIES:Family,Shop
ATTACH;FMTTYPE=image/webp:https://piervillage.com/wp-content/uploads/2023/03/artisan-market.webp
END:VEVENT
BEGIN:VEVENT
DTSTART;TZID=UTC:20240830T110000
DTEND;TZID=UTC:20240830T180000
DTSTAMP:20260425T201100
CREATED:20230531T191010Z
LAST-MODIFIED:20240722T191959Z
UID:15659-1725015600-1725040800@piervillage.com
SUMMARY:HIGH TIDE MAKERS + ARTISAN MARKET
DESCRIPTION:Join us from 11AM to 6PM at the High Tide Makers + Artisan open – air Market offering unique creations from local makers and artisans on the Carousel Promenade. \nPerformances by The School of Rock \nWhether you are looking for shopping or dining for something quick and casual or are interested in fine dining\, you’ll find it here. As the most exciting beachfront destination at the Jersey Shore\, Pier Village offers family friendly dining and an array of specialty shops and boutiques with a backdrop of breathtaking views of the ocean. \n 
URL:https://piervillage.com/event/high-tide-makers-artisan-market-3/2024-08-30/
LOCATION:Carousel Stage | Pier Village
CATEGORIES:Family,Shop
ATTACH;FMTTYPE=image/webp:https://piervillage.com/wp-content/uploads/2023/03/artisan-market.webp
END:VEVENT
BEGIN:VEVENT
DTSTART;TZID=UTC:20240823T110000
DTEND;TZID=UTC:20240823T180000
DTSTAMP:20260425T201100
CREATED:20230531T191010Z
LAST-MODIFIED:20240722T191959Z
UID:15658-1724410800-1724436000@piervillage.com
SUMMARY:HIGH TIDE MAKERS + ARTISAN MARKET
DESCRIPTION:Join us from 11AM to 6PM at the High Tide Makers + Artisan open – air Market offering unique creations from local makers and artisans on the Carousel Promenade. \nPerformances by The School of Rock \nWhether you are looking for shopping or dining for something quick and casual or are interested in fine dining\, you’ll find it here. As the most exciting beachfront destination at the Jersey Shore\, Pier Village offers family friendly dining and an array of specialty shops and boutiques with a backdrop of breathtaking views of the ocean. \n 
URL:https://piervillage.com/event/high-tide-makers-artisan-market-3/2024-08-23/
LOCATION:Carousel Stage | Pier Village
CATEGORIES:Family,Shop
ATTACH;FMTTYPE=image/webp:https://piervillage.com/wp-content/uploads/2023/03/artisan-market.webp
END:VEVENT
BEGIN:VEVENT
DTSTART;TZID=UTC:20240816T110000
DTEND;TZID=UTC:20240816T180000
DTSTAMP:20260425T201100
CREATED:20230531T191010Z
LAST-MODIFIED:20240722T191959Z
UID:15657-1723806000-1723831200@piervillage.com
SUMMARY:HIGH TIDE MAKERS + ARTISAN MARKET
DESCRIPTION:Join us from 11AM to 6PM at the High Tide Makers + Artisan open – air Market offering unique creations from local makers and artisans on the Carousel Promenade. \nPerformances by The School of Rock \nWhether you are looking for shopping or dining for something quick and casual or are interested in fine dining\, you’ll find it here. As the most exciting beachfront destination at the Jersey Shore\, Pier Village offers family friendly dining and an array of specialty shops and boutiques with a backdrop of breathtaking views of the ocean. \n 
URL:https://piervillage.com/event/high-tide-makers-artisan-market-3/2024-08-16/
LOCATION:Carousel Stage | Pier Village
CATEGORIES:Family,Shop
ATTACH;FMTTYPE=image/webp:https://piervillage.com/wp-content/uploads/2023/03/artisan-market.webp
END:VEVENT
BEGIN:VEVENT
DTSTART;TZID=UTC:20240809T110000
DTEND;TZID=UTC:20240809T180000
DTSTAMP:20260425T201100
CREATED:20230531T191010Z
LAST-MODIFIED:20240722T191958Z
UID:15656-1723201200-1723226400@piervillage.com
SUMMARY:HIGH TIDE MAKERS + ARTISAN MARKET
DESCRIPTION:Join us from 11AM to 6PM at the High Tide Makers + Artisan open – air Market offering unique creations from local makers and artisans on the Carousel Promenade. \nPerformances by The School of Rock \nWhether you are looking for shopping or dining for something quick and casual or are interested in fine dining\, you’ll find it here. As the most exciting beachfront destination at the Jersey Shore\, Pier Village offers family friendly dining and an array of specialty shops and boutiques with a backdrop of breathtaking views of the ocean. \n 
URL:https://piervillage.com/event/high-tide-makers-artisan-market-3/2024-08-09/
LOCATION:Carousel Stage | Pier Village
CATEGORIES:Family,Shop
ATTACH;FMTTYPE=image/webp:https://piervillage.com/wp-content/uploads/2023/03/artisan-market.webp
END:VEVENT
BEGIN:VEVENT
DTSTART;TZID=UTC:20240802T110000
DTEND;TZID=UTC:20240802T180000
DTSTAMP:20260425T201100
CREATED:20230531T191010Z
LAST-MODIFIED:20240722T191958Z
UID:15655-1722596400-1722621600@piervillage.com
SUMMARY:HIGH TIDE MAKERS + ARTISAN MARKET
DESCRIPTION:Join us from 11AM to 6PM at the High Tide Makers + Artisan open – air Market offering unique creations from local makers and artisans on the Carousel Promenade. \nPerformances by The School of Rock \nWhether you are looking for shopping or dining for something quick and casual or are interested in fine dining\, you’ll find it here. As the most exciting beachfront destination at the Jersey Shore\, Pier Village offers family friendly dining and an array of specialty shops and boutiques with a backdrop of breathtaking views of the ocean. \n 
URL:https://piervillage.com/event/high-tide-makers-artisan-market-3/2024-08-02/
LOCATION:Carousel Stage | Pier Village
CATEGORIES:Family,Shop
ATTACH;FMTTYPE=image/webp:https://piervillage.com/wp-content/uploads/2023/03/artisan-market.webp
END:VEVENT
BEGIN:VEVENT
DTSTART;TZID=UTC:20240726T110000
DTEND;TZID=UTC:20240726T180000
DTSTAMP:20260425T201100
CREATED:20230531T191010Z
LAST-MODIFIED:20240722T191957Z
UID:15654-1721991600-1722016800@piervillage.com
SUMMARY:HIGH TIDE MAKERS + ARTISAN MARKET
DESCRIPTION:Join us from 11AM to 6PM at the High Tide Makers + Artisan open – air Market offering unique creations from local makers and artisans on the Carousel Promenade. \nPerformances by The School of Rock \nWhether you are looking for shopping or dining for something quick and casual or are interested in fine dining\, you’ll find it here. As the most exciting beachfront destination at the Jersey Shore\, Pier Village offers family friendly dining and an array of specialty shops and boutiques with a backdrop of breathtaking views of the ocean. \n 
URL:https://piervillage.com/event/high-tide-makers-artisan-market-3/2024-07-26/
LOCATION:Carousel Stage | Pier Village
CATEGORIES:Family,Shop
ATTACH;FMTTYPE=image/webp:https://piervillage.com/wp-content/uploads/2023/03/artisan-market.webp
END:VEVENT
BEGIN:VEVENT
DTSTART;TZID=UTC:20240719T110000
DTEND;TZID=UTC:20240719T180000
DTSTAMP:20260425T201100
CREATED:20230531T191010Z
LAST-MODIFIED:20240722T191957Z
UID:15653-1721386800-1721412000@piervillage.com
SUMMARY:HIGH TIDE MAKERS + ARTISAN MARKET
DESCRIPTION:Join us from 11AM to 6PM at the High Tide Makers + Artisan open – air Market offering unique creations from local makers and artisans on the Carousel Promenade. \nPerformances by The School of Rock \nWhether you are looking for shopping or dining for something quick and casual or are interested in fine dining\, you’ll find it here. As the most exciting beachfront destination at the Jersey Shore\, Pier Village offers family friendly dining and an array of specialty shops and boutiques with a backdrop of breathtaking views of the ocean. \n 
URL:https://piervillage.com/event/high-tide-makers-artisan-market-3/2024-07-19/
LOCATION:Carousel Stage | Pier Village
CATEGORIES:Family,Shop
ATTACH;FMTTYPE=image/webp:https://piervillage.com/wp-content/uploads/2023/03/artisan-market.webp
END:VEVENT
BEGIN:VEVENT
DTSTART;TZID=UTC:20240712T110000
DTEND;TZID=UTC:20240712T180000
DTSTAMP:20260425T201100
CREATED:20230531T191010Z
LAST-MODIFIED:20240722T191957Z
UID:15652-1720782000-1720807200@piervillage.com
SUMMARY:HIGH TIDE MAKERS + ARTISAN MARKET
DESCRIPTION:Join us from 11AM to 6PM at the High Tide Makers + Artisan open – air Market offering unique creations from local makers and artisans on the Carousel Promenade. \nPerformances by The School of Rock \nWhether you are looking for shopping or dining for something quick and casual or are interested in fine dining\, you’ll find it here. As the most exciting beachfront destination at the Jersey Shore\, Pier Village offers family friendly dining and an array of specialty shops and boutiques with a backdrop of breathtaking views of the ocean. \n 
URL:https://piervillage.com/event/high-tide-makers-artisan-market-3/2024-07-12/
LOCATION:Carousel Stage | Pier Village
CATEGORIES:Family,Shop
ATTACH;FMTTYPE=image/webp:https://piervillage.com/wp-content/uploads/2023/03/artisan-market.webp
END:VEVENT
BEGIN:VEVENT
DTSTART;TZID=UTC:20240705T110000
DTEND;TZID=UTC:20240705T180000
DTSTAMP:20260425T201100
CREATED:20230531T191010Z
LAST-MODIFIED:20240722T191956Z
UID:15651-1720177200-1720202400@piervillage.com
SUMMARY:HIGH TIDE MAKERS + ARTISAN MARKET
DESCRIPTION:Join us from 11AM to 6PM at the High Tide Makers + Artisan open – air Market offering unique creations from local makers and artisans on the Carousel Promenade. \nPerformances by The School of Rock \nWhether you are looking for shopping or dining for something quick and casual or are interested in fine dining\, you’ll find it here. As the most exciting beachfront destination at the Jersey Shore\, Pier Village offers family friendly dining and an array of specialty shops and boutiques with a backdrop of breathtaking views of the ocean. \n 
URL:https://piervillage.com/event/high-tide-makers-artisan-market-3/2024-07-05/
LOCATION:Carousel Stage | Pier Village
CATEGORIES:Family,Shop
ATTACH;FMTTYPE=image/webp:https://piervillage.com/wp-content/uploads/2023/03/artisan-market.webp
END:VEVENT
BEGIN:VEVENT
DTSTART;TZID=UTC:20240629T110000
DTEND;TZID=UTC:20240629T180000
DTSTAMP:20260425T201100
CREATED:20230531T191010Z
LAST-MODIFIED:20240722T191956Z
UID:15795-1719658800-1719684000@piervillage.com
SUMMARY:HIGH TIDE MAKERS + ARTISAN MARKET
DESCRIPTION:Join us from 11AM to 6PM at the High Tide Makers + Artisan open – air Market offering unique creations from local makers and artisans on the Carousel Promenade. \nPerformances by The School of Rock \nWhether you are looking for shopping or dining for something quick and casual or are interested in fine dining\, you’ll find it here. As the most exciting beachfront destination at the Jersey Shore\, Pier Village offers family friendly dining and an array of specialty shops and boutiques with a backdrop of breathtaking views of the ocean. \n 
URL:https://piervillage.com/event/high-tide-makers-artisan-market-3/2024-06-29/
LOCATION:Carousel Stage | Pier Village
CATEGORIES:Family,Shop
ATTACH;FMTTYPE=image/webp:https://piervillage.com/wp-content/uploads/2023/03/artisan-market.webp
END:VEVENT
BEGIN:VEVENT
DTSTART;TZID=UTC:20240622T110000
DTEND;TZID=UTC:20240622T180000
DTSTAMP:20260425T201100
CREATED:20230531T191010Z
LAST-MODIFIED:20240722T191948Z
UID:15794-1719054000-1719079200@piervillage.com
SUMMARY:HIGH TIDE MAKERS + ARTISAN MARKET
DESCRIPTION:Join us from 11AM to 6PM at the High Tide Makers + Artisan open – air Market offering unique creations from local makers and artisans on the Carousel Promenade. \nPerformances by The School of Rock \nWhether you are looking for shopping or dining for something quick and casual or are interested in fine dining\, you’ll find it here. As the most exciting beachfront destination at the Jersey Shore\, Pier Village offers family friendly dining and an array of specialty shops and boutiques with a backdrop of breathtaking views of the ocean. \n 
URL:https://piervillage.com/event/high-tide-makers-artisan-market-3/2024-06-22/
LOCATION:Carousel Stage | Pier Village
CATEGORIES:Family,Shop
ATTACH;FMTTYPE=image/webp:https://piervillage.com/wp-content/uploads/2023/03/artisan-market.webp
END:VEVENT
BEGIN:VEVENT
DTSTART;TZID=UTC:20240615T110000
DTEND;TZID=UTC:20240615T180000
DTSTAMP:20260425T201100
CREATED:20230531T191010Z
LAST-MODIFIED:20240722T191948Z
UID:15793-1718449200-1718474400@piervillage.com
SUMMARY:HIGH TIDE MAKERS + ARTISAN MARKET
DESCRIPTION:Join us from 11AM to 6PM at the High Tide Makers + Artisan open – air Market offering unique creations from local makers and artisans on the Carousel Promenade. \nPerformances by The School of Rock \nWhether you are looking for shopping or dining for something quick and casual or are interested in fine dining\, you’ll find it here. As the most exciting beachfront destination at the Jersey Shore\, Pier Village offers family friendly dining and an array of specialty shops and boutiques with a backdrop of breathtaking views of the ocean. \n 
URL:https://piervillage.com/event/high-tide-makers-artisan-market-3/2024-06-15/
LOCATION:Carousel Stage | Pier Village
CATEGORIES:Family,Shop
ATTACH;FMTTYPE=image/webp:https://piervillage.com/wp-content/uploads/2023/03/artisan-market.webp
END:VEVENT
BEGIN:VEVENT
DTSTART;TZID=UTC:20240608T110000
DTEND;TZID=UTC:20240608T180000
DTSTAMP:20260425T201100
CREATED:20230531T191010Z
LAST-MODIFIED:20240722T191947Z
UID:15792-1717844400-1717869600@piervillage.com
SUMMARY:HIGH TIDE MAKERS + ARTISAN MARKET
DESCRIPTION:Join us from 11AM to 6PM at the High Tide Makers + Artisan open – air Market offering unique creations from local makers and artisans on the Carousel Promenade. \nPerformances by The School of Rock \nWhether you are looking for shopping or dining for something quick and casual or are interested in fine dining\, you’ll find it here. As the most exciting beachfront destination at the Jersey Shore\, Pier Village offers family friendly dining and an array of specialty shops and boutiques with a backdrop of breathtaking views of the ocean. \n 
URL:https://piervillage.com/event/high-tide-makers-artisan-market-3/2024-06-08/
LOCATION:Carousel Stage | Pier Village
CATEGORIES:Family,Shop
ATTACH;FMTTYPE=image/webp:https://piervillage.com/wp-content/uploads/2023/03/artisan-market.webp
END:VEVENT
BEGIN:VEVENT
DTSTART;TZID=UTC:20240601T110000
DTEND;TZID=UTC:20240601T180000
DTSTAMP:20260425T201100
CREATED:20230531T191010Z
LAST-MODIFIED:20240722T191947Z
UID:15791-1717239600-1717264800@piervillage.com
SUMMARY:HIGH TIDE MAKERS + ARTISAN MARKET
DESCRIPTION:Join us from 11AM to 6PM at the High Tide Makers + Artisan open – air Market offering unique creations from local makers and artisans on the Carousel Promenade. \nPerformances by The School of Rock \nWhether you are looking for shopping or dining for something quick and casual or are interested in fine dining\, you’ll find it here. As the most exciting beachfront destination at the Jersey Shore\, Pier Village offers family friendly dining and an array of specialty shops and boutiques with a backdrop of breathtaking views of the ocean. \n 
URL:https://piervillage.com/event/high-tide-makers-artisan-market-3/2024-06-01/
LOCATION:Carousel Stage | Pier Village
CATEGORIES:Family,Shop
ATTACH;FMTTYPE=image/webp:https://piervillage.com/wp-content/uploads/2023/03/artisan-market.webp
END:VEVENT
BEGIN:VEVENT
DTSTART;TZID=UTC:20240525T110000
DTEND;TZID=UTC:20240525T180000
DTSTAMP:20260425T201100
CREATED:20230531T191010Z
LAST-MODIFIED:20240722T191946Z
UID:15790-1716634800-1716660000@piervillage.com
SUMMARY:HIGH TIDE MAKERS + ARTISAN MARKET
DESCRIPTION:Join us from 11AM to 6PM at the High Tide Makers + Artisan open – air Market offering unique creations from local makers and artisans on the Carousel Promenade. \nPerformances by The School of Rock \nWhether you are looking for shopping or dining for something quick and casual or are interested in fine dining\, you’ll find it here. As the most exciting beachfront destination at the Jersey Shore\, Pier Village offers family friendly dining and an array of specialty shops and boutiques with a backdrop of breathtaking views of the ocean. \n 
URL:https://piervillage.com/event/high-tide-makers-artisan-market-3/2024-05-25/
LOCATION:Carousel Stage | Pier Village
CATEGORIES:Family,Shop
ATTACH;FMTTYPE=image/webp:https://piervillage.com/wp-content/uploads/2023/03/artisan-market.webp
END:VEVENT
BEGIN:VEVENT
DTSTART;TZID=UTC:20240518T110000
DTEND;TZID=UTC:20240518T180000
DTSTAMP:20260425T201100
CREATED:20230531T191010Z
LAST-MODIFIED:20240722T191946Z
UID:15789-1716030000-1716055200@piervillage.com
SUMMARY:HIGH TIDE MAKERS + ARTISAN MARKET
DESCRIPTION:Join us from 11AM to 6PM at the High Tide Makers + Artisan open – air Market offering unique creations from local makers and artisans on the Carousel Promenade. \nPerformances by The School of Rock \nWhether you are looking for shopping or dining for something quick and casual or are interested in fine dining\, you’ll find it here. As the most exciting beachfront destination at the Jersey Shore\, Pier Village offers family friendly dining and an array of specialty shops and boutiques with a backdrop of breathtaking views of the ocean. \n 
URL:https://piervillage.com/event/high-tide-makers-artisan-market-3/2024-05-18/
LOCATION:Carousel Stage | Pier Village
CATEGORIES:Family,Shop
ATTACH;FMTTYPE=image/webp:https://piervillage.com/wp-content/uploads/2023/03/artisan-market.webp
END:VEVENT
BEGIN:VEVENT
DTSTART;TZID=UTC:20240511T110000
DTEND;TZID=UTC:20240511T180000
DTSTAMP:20260425T201100
CREATED:20230531T191010Z
LAST-MODIFIED:20240722T191945Z
UID:15788-1715425200-1715450400@piervillage.com
SUMMARY:HIGH TIDE MAKERS + ARTISAN MARKET
DESCRIPTION:Join us from 11AM to 6PM at the High Tide Makers + Artisan open – air Market offering unique creations from local makers and artisans on the Carousel Promenade. \nPerformances by The School of Rock \nWhether you are looking for shopping or dining for something quick and casual or are interested in fine dining\, you’ll find it here. As the most exciting beachfront destination at the Jersey Shore\, Pier Village offers family friendly dining and an array of specialty shops and boutiques with a backdrop of breathtaking views of the ocean. \n 
URL:https://piervillage.com/event/high-tide-makers-artisan-market-3/2024-05-11/
LOCATION:Carousel Stage | Pier Village
CATEGORIES:Family,Shop
ATTACH;FMTTYPE=image/webp:https://piervillage.com/wp-content/uploads/2023/03/artisan-market.webp
END:VEVENT
BEGIN:VEVENT
DTSTART;TZID=UTC:20240504T110000
DTEND;TZID=UTC:20240504T180000
DTSTAMP:20260425T201100
CREATED:20230531T191010Z
LAST-MODIFIED:20240722T191943Z
UID:8032-1714820400-1714845600@piervillage.com
SUMMARY:HIGH TIDE MAKERS + ARTISAN MARKET
DESCRIPTION:Join us from 11AM to 6PM at the High Tide Makers + Artisan open – air Market offering unique creations from local makers and artisans on the Carousel Promenade. \nPerformances by The School of Rock \nWhether you are looking for shopping or dining for something quick and casual or are interested in fine dining\, you’ll find it here. As the most exciting beachfront destination at the Jersey Shore\, Pier Village offers family friendly dining and an array of specialty shops and boutiques with a backdrop of breathtaking views of the ocean. \n 
URL:https://piervillage.com/event/high-tide-makers-artisan-market-3/2024-05-04/
LOCATION:Carousel Stage | Pier Village
CATEGORIES:Family,Shop
ATTACH;FMTTYPE=image/webp:https://piervillage.com/wp-content/uploads/2023/03/artisan-market.webp
END:VEVENT
END:VCALENDAR