BEGIN:VCALENDAR
VERSION:2.0
PRODID:-//Pier Village - ECPv6.15.18//NONSGML v1.0//EN
CALSCALE:GREGORIAN
METHOD:PUBLISH
X-ORIGINAL-URL:https://piervillage.com
X-WR-CALDESC:Events for Pier Village
REFRESH-INTERVAL;VALUE=DURATION:PT1H
X-Robots-Tag:noindex
X-PUBLISHED-TTL:PT1H
BEGIN:VTIMEZONE
TZID:UTC
BEGIN:STANDARD
TZOFFSETFROM:+0000
TZOFFSETTO:+0000
TZNAME:UTC
DTSTART:20230101T000000
END:STANDARD
END:VTIMEZONE
BEGIN:VEVENT
DTSTART;TZID=UTC:20250202T100000
DTEND;TZID=UTC:20250214T170000
DTSTAMP:20260425T132403
CREATED:20240104T161902Z
LAST-MODIFIED:20250124T190722Z
UID:13674-1738490400-1739552400@piervillage.com
SUMMARY:Dog Kissing Booth
DESCRIPTION:Welcome to the Dog Kissing booth event! \nCome join us at Doggie Sweets for a day filled with slobbery kisses and tail wags. Grab your furry friend and bring them to the Kissing Booth this Valentine’s Day. \nWalk In’s Welcome or Schedule a time on Eventbrite. \n 
URL:https://piervillage.com/event/kissing-booth/2025-02-02/
LOCATION:Doggie Sweets | Pier Village
CATEGORIES:Family,Pets
ATTACH;FMTTYPE=image/png:https://piervillage.com/wp-content/uploads/2024/01/Picture3.png
END:VEVENT
BEGIN:VEVENT
DTSTART;TZID=UTC:20240210T100000
DTEND;TZID=UTC:20240210T170000
DTSTAMP:20260425T132403
CREATED:20240104T161902Z
LAST-MODIFIED:20240104T162813Z
UID:13669-1707559200-1707584400@piervillage.com
SUMMARY:Kissing Booth
DESCRIPTION:Grab your furry friend and bring them to the Kissing Booth this Valentines Day! Pictures are free. Walk ins welcome.
URL:https://piervillage.com/event/kissing-booth/2024-02-10/
LOCATION:Doggie Sweets | Pier Village
CATEGORIES:Family,Pets
ATTACH;FMTTYPE=image/png:https://piervillage.com/wp-content/uploads/2024/01/Picture3.png
END:VEVENT
END:VCALENDAR