BEGIN:VCALENDAR
VERSION:2.0
PRODID:-//Pier Village - ECPv6.15.18//NONSGML v1.0//EN
CALSCALE:GREGORIAN
METHOD:PUBLISH
X-ORIGINAL-URL:https://piervillage.com
X-WR-CALDESC:Events for Pier Village
REFRESH-INTERVAL;VALUE=DURATION:PT1H
X-Robots-Tag:noindex
X-PUBLISHED-TTL:PT1H
BEGIN:VTIMEZONE
TZID:UTC
BEGIN:STANDARD
TZOFFSETFROM:+0000
TZOFFSETTO:+0000
TZNAME:UTC
DTSTART:20250101T000000
END:STANDARD
END:VTIMEZONE
BEGIN:VEVENT
DTSTART;TZID=UTC:20260523T110000
DTEND;TZID=UTC:20260523T220000
DTSTAMP:20260419T172420
CREATED:20260413T185559Z
LAST-MODIFIED:20260415T185734Z
UID:19160-1779534000-1779573600@piervillage.com
SUMMARY:Memorial Day Weekend Kickoff
DESCRIPTION:Kick off the start of summer with a festive Memorial Day Weekend celebration at Wave Resort \nEnjoy a full weekend of live entertainment\, music\, and family-friendly experiences along the oceanfront. \nWeekend Highlights Include: \n\nSaturday: Live DJ + strolling entertainment including stilt walkers\nSunday: Live band\, happy hour\, and interactive entertainment\nMonday: Classic rock performance to close out the weekend\n\nFrom shopping and dining to entertainment and beachside relaxation\, Pier Village offers everything you need for the perfect holiday weekend.
URL:https://piervillage.com/event/memorial-day-weekend-kickoff/2026-05-23/
LOCATION:Wave Resort\, 110 Ocean Avenue\, Long Branch\, NJ\, 07740\, United States
CATEGORIES:Food & Drink,Music
ATTACH;FMTTYPE=image/jpeg:https://piervillage.com/wp-content/uploads/2026/04/Screenshot_13-4-2026_145518_www.instagram.com_.jpeg
END:VEVENT
BEGIN:VEVENT
DTSTART;TZID=UTC:20260524T110000
DTEND;TZID=UTC:20260524T220000
DTSTAMP:20260419T172420
CREATED:20260413T185559Z
LAST-MODIFIED:20260413T185559Z
UID:19189-1779620400-1779660000@piervillage.com
SUMMARY:Memorial Day Weekend Kickoff
DESCRIPTION:Kick off the start of summer with a festive Memorial Day Weekend celebration at Wave Resort \nEnjoy a full weekend of live entertainment\, music\, and family-friendly experiences along the oceanfront. \nWeekend Highlights Include: \n\nSaturday: Live DJ + strolling entertainment including stilt walkers\nSunday: Live band\, happy hour\, and interactive entertainment\nMonday: Classic rock performance to close out the weekend\n\nFrom shopping and dining to entertainment and beachside relaxation\, Pier Village offers everything you need for the perfect holiday weekend.
URL:https://piervillage.com/event/memorial-day-weekend-kickoff/2026-05-24/
LOCATION:Wave Resort\, 110 Ocean Avenue\, Long Branch\, NJ\, 07740\, United States
CATEGORIES:Food & Drink,Music
ATTACH;FMTTYPE=image/jpeg:https://piervillage.com/wp-content/uploads/2026/04/Screenshot_13-4-2026_145518_www.instagram.com_.jpeg
END:VEVENT
BEGIN:VEVENT
DTSTART;TZID=UTC:20260525T110000
DTEND;TZID=UTC:20260525T220000
DTSTAMP:20260419T172420
CREATED:20260413T185559Z
LAST-MODIFIED:20260413T185559Z
UID:19190-1779706800-1779746400@piervillage.com
SUMMARY:Memorial Day Weekend Kickoff
DESCRIPTION:Kick off the start of summer with a festive Memorial Day Weekend celebration at Wave Resort \nEnjoy a full weekend of live entertainment\, music\, and family-friendly experiences along the oceanfront. \nWeekend Highlights Include: \n\nSaturday: Live DJ + strolling entertainment including stilt walkers\nSunday: Live band\, happy hour\, and interactive entertainment\nMonday: Classic rock performance to close out the weekend\n\nFrom shopping and dining to entertainment and beachside relaxation\, Pier Village offers everything you need for the perfect holiday weekend.
URL:https://piervillage.com/event/memorial-day-weekend-kickoff/2026-05-25/
LOCATION:Wave Resort\, 110 Ocean Avenue\, Long Branch\, NJ\, 07740\, United States
CATEGORIES:Food & Drink,Music
ATTACH;FMTTYPE=image/jpeg:https://piervillage.com/wp-content/uploads/2026/04/Screenshot_13-4-2026_145518_www.instagram.com_.jpeg
END:VEVENT
END:VCALENDAR