BEGIN:VCALENDAR
VERSION:2.0
PRODID:-//Pier Village - ECPv6.15.18//NONSGML v1.0//EN
CALSCALE:GREGORIAN
METHOD:PUBLISH
X-ORIGINAL-URL:https://piervillage.com
X-WR-CALDESC:Events for Pier Village
REFRESH-INTERVAL;VALUE=DURATION:PT1H
X-Robots-Tag:noindex
X-PUBLISHED-TTL:PT1H
BEGIN:VTIMEZONE
TZID:UTC
BEGIN:STANDARD
TZOFFSETFROM:+0000
TZOFFSETTO:+0000
TZNAME:UTC
DTSTART:20230101T000000
END:STANDARD
END:VTIMEZONE
BEGIN:VEVENT
DTSTART;TZID=UTC:20240609T110000
DTEND;TZID=UTC:20240609T200000
DTSTAMP:20260424T102704
CREATED:20240319T144523Z
LAST-MODIFIED:20240319T144523Z
UID:15601-1717930800-1717963200@piervillage.com
SUMMARY:MOLLY & ZOEY AND SALT NATION SURF SHOP SIDEWALK SALE
DESCRIPTION:Be sure to visit this weekend when Molly & Zoey\, Molly and Zoey Undercover and Salt Nation Surf Shop roll out their racks for early season savings. \n@mollyandzoey offers women’s apparel at affordable prices. Casual to dressy apparel\, be dressed to impress for any occasion. Our team of stylists are always ready and on hand to help you build the perfect wardrobe. We provide the most current on trend merchandise for an affordable price. We are just as passionate about fashion as you are\, and we are always searching for the next trends. You can always expect something new and fresh from us that you haven’t seen before. \nSalt Nation Surf Shop\, specializes in surf brands\, beach essentials and Long Branch merchandise for all. Salt Nation is an expanded space\, so all new brands are in addition to previous brands\, such as Vintage Havana for children and men’s Vintage Summer Swimwear. The new brands consist of Billabong\, Rip Curl\, O’Neil\, Hurley and more for both men and women. Their beach essentials include sunblock\, towels\, boogie boards\, umbrellas\, chairs and anything you may need for the beach. \nThe Salt Nation Surf Shop staff is eager to see you! \n 
URL:https://piervillage.com/event/molly-zoey-and-salt-nation-surf-shop-sidewalk-sale/2024-06-09/
CATEGORIES:Shop
ATTACH;FMTTYPE=image/webp:https://piervillage.com/wp-content/uploads/2023/03/surf-shop-sidewalk.webp
END:VEVENT
BEGIN:VEVENT
DTSTART;TZID=UTC:20240608T110000
DTEND;TZID=UTC:20240608T200000
DTSTAMP:20260424T102704
CREATED:20240319T144523Z
LAST-MODIFIED:20240319T144523Z
UID:15600-1717844400-1717876800@piervillage.com
SUMMARY:MOLLY & ZOEY AND SALT NATION SURF SHOP SIDEWALK SALE
DESCRIPTION:Be sure to visit this weekend when Molly & Zoey\, Molly and Zoey Undercover and Salt Nation Surf Shop roll out their racks for early season savings. \n@mollyandzoey offers women’s apparel at affordable prices. Casual to dressy apparel\, be dressed to impress for any occasion. Our team of stylists are always ready and on hand to help you build the perfect wardrobe. We provide the most current on trend merchandise for an affordable price. We are just as passionate about fashion as you are\, and we are always searching for the next trends. You can always expect something new and fresh from us that you haven’t seen before. \nSalt Nation Surf Shop\, specializes in surf brands\, beach essentials and Long Branch merchandise for all. Salt Nation is an expanded space\, so all new brands are in addition to previous brands\, such as Vintage Havana for children and men’s Vintage Summer Swimwear. The new brands consist of Billabong\, Rip Curl\, O’Neil\, Hurley and more for both men and women. Their beach essentials include sunblock\, towels\, boogie boards\, umbrellas\, chairs and anything you may need for the beach. \nThe Salt Nation Surf Shop staff is eager to see you! \n 
URL:https://piervillage.com/event/molly-zoey-and-salt-nation-surf-shop-sidewalk-sale/2024-06-08/
CATEGORIES:Shop
ATTACH;FMTTYPE=image/webp:https://piervillage.com/wp-content/uploads/2023/03/surf-shop-sidewalk.webp
END:VEVENT
BEGIN:VEVENT
DTSTART;TZID=UTC:20240607T110000
DTEND;TZID=UTC:20240607T200000
DTSTAMP:20260424T102704
CREATED:20240319T144523Z
LAST-MODIFIED:20240319T144523Z
UID:15599-1717758000-1717790400@piervillage.com
SUMMARY:MOLLY & ZOEY AND SALT NATION SURF SHOP SIDEWALK SALE
DESCRIPTION:Be sure to visit this weekend when Molly & Zoey\, Molly and Zoey Undercover and Salt Nation Surf Shop roll out their racks for early season savings. \n@mollyandzoey offers women’s apparel at affordable prices. Casual to dressy apparel\, be dressed to impress for any occasion. Our team of stylists are always ready and on hand to help you build the perfect wardrobe. We provide the most current on trend merchandise for an affordable price. We are just as passionate about fashion as you are\, and we are always searching for the next trends. You can always expect something new and fresh from us that you haven’t seen before. \nSalt Nation Surf Shop\, specializes in surf brands\, beach essentials and Long Branch merchandise for all. Salt Nation is an expanded space\, so all new brands are in addition to previous brands\, such as Vintage Havana for children and men’s Vintage Summer Swimwear. The new brands consist of Billabong\, Rip Curl\, O’Neil\, Hurley and more for both men and women. Their beach essentials include sunblock\, towels\, boogie boards\, umbrellas\, chairs and anything you may need for the beach. \nThe Salt Nation Surf Shop staff is eager to see you! \n 
URL:https://piervillage.com/event/molly-zoey-and-salt-nation-surf-shop-sidewalk-sale/2024-06-07/
CATEGORIES:Shop
ATTACH;FMTTYPE=image/webp:https://piervillage.com/wp-content/uploads/2023/03/surf-shop-sidewalk.webp
END:VEVENT
BEGIN:VEVENT
DTSTART;TZID=UTC:20240519T110000
DTEND;TZID=UTC:20240519T200000
DTSTAMP:20260424T102704
CREATED:20240319T144523Z
LAST-MODIFIED:20240319T144523Z
UID:15598-1716116400-1716148800@piervillage.com
SUMMARY:MOLLY & ZOEY AND SALT NATION SURF SHOP SIDEWALK SALE
DESCRIPTION:Be sure to visit this weekend when Molly & Zoey\, Molly and Zoey Undercover and Salt Nation Surf Shop roll out their racks for early season savings. \n@mollyandzoey offers women’s apparel at affordable prices. Casual to dressy apparel\, be dressed to impress for any occasion. Our team of stylists are always ready and on hand to help you build the perfect wardrobe. We provide the most current on trend merchandise for an affordable price. We are just as passionate about fashion as you are\, and we are always searching for the next trends. You can always expect something new and fresh from us that you haven’t seen before. \nSalt Nation Surf Shop\, specializes in surf brands\, beach essentials and Long Branch merchandise for all. Salt Nation is an expanded space\, so all new brands are in addition to previous brands\, such as Vintage Havana for children and men’s Vintage Summer Swimwear. The new brands consist of Billabong\, Rip Curl\, O’Neil\, Hurley and more for both men and women. Their beach essentials include sunblock\, towels\, boogie boards\, umbrellas\, chairs and anything you may need for the beach. \nThe Salt Nation Surf Shop staff is eager to see you! \n 
URL:https://piervillage.com/event/molly-zoey-and-salt-nation-surf-shop-sidewalk-sale/2024-05-19/
CATEGORIES:Shop
ATTACH;FMTTYPE=image/webp:https://piervillage.com/wp-content/uploads/2023/03/surf-shop-sidewalk.webp
END:VEVENT
BEGIN:VEVENT
DTSTART;TZID=UTC:20240518T110000
DTEND;TZID=UTC:20240518T200000
DTSTAMP:20260424T102704
CREATED:20240319T144523Z
LAST-MODIFIED:20240319T144523Z
UID:15597-1716030000-1716062400@piervillage.com
SUMMARY:MOLLY & ZOEY AND SALT NATION SURF SHOP SIDEWALK SALE
DESCRIPTION:Be sure to visit this weekend when Molly & Zoey\, Molly and Zoey Undercover and Salt Nation Surf Shop roll out their racks for early season savings. \n@mollyandzoey offers women’s apparel at affordable prices. Casual to dressy apparel\, be dressed to impress for any occasion. Our team of stylists are always ready and on hand to help you build the perfect wardrobe. We provide the most current on trend merchandise for an affordable price. We are just as passionate about fashion as you are\, and we are always searching for the next trends. You can always expect something new and fresh from us that you haven’t seen before. \nSalt Nation Surf Shop\, specializes in surf brands\, beach essentials and Long Branch merchandise for all. Salt Nation is an expanded space\, so all new brands are in addition to previous brands\, such as Vintage Havana for children and men’s Vintage Summer Swimwear. The new brands consist of Billabong\, Rip Curl\, O’Neil\, Hurley and more for both men and women. Their beach essentials include sunblock\, towels\, boogie boards\, umbrellas\, chairs and anything you may need for the beach. \nThe Salt Nation Surf Shop staff is eager to see you! \n 
URL:https://piervillage.com/event/molly-zoey-and-salt-nation-surf-shop-sidewalk-sale/2024-05-18/
CATEGORIES:Shop
ATTACH;FMTTYPE=image/webp:https://piervillage.com/wp-content/uploads/2023/03/surf-shop-sidewalk.webp
END:VEVENT
BEGIN:VEVENT
DTSTART;TZID=UTC:20240517T110000
DTEND;TZID=UTC:20240517T200000
DTSTAMP:20260424T102704
CREATED:20240319T144523Z
LAST-MODIFIED:20240319T144523Z
UID:9113-1715943600-1715976000@piervillage.com
SUMMARY:MOLLY & ZOEY AND SALT NATION SURF SHOP SIDEWALK SALE
DESCRIPTION:Be sure to visit this weekend when Molly & Zoey\, Molly and Zoey Undercover and Salt Nation Surf Shop roll out their racks for early season savings. \n@mollyandzoey offers women’s apparel at affordable prices. Casual to dressy apparel\, be dressed to impress for any occasion. Our team of stylists are always ready and on hand to help you build the perfect wardrobe. We provide the most current on trend merchandise for an affordable price. We are just as passionate about fashion as you are\, and we are always searching for the next trends. You can always expect something new and fresh from us that you haven’t seen before. \nSalt Nation Surf Shop\, specializes in surf brands\, beach essentials and Long Branch merchandise for all. Salt Nation is an expanded space\, so all new brands are in addition to previous brands\, such as Vintage Havana for children and men’s Vintage Summer Swimwear. The new brands consist of Billabong\, Rip Curl\, O’Neil\, Hurley and more for both men and women. Their beach essentials include sunblock\, towels\, boogie boards\, umbrellas\, chairs and anything you may need for the beach. \nThe Salt Nation Surf Shop staff is eager to see you! \n 
URL:https://piervillage.com/event/molly-zoey-and-salt-nation-surf-shop-sidewalk-sale/2024-05-17/
CATEGORIES:Shop
ATTACH;FMTTYPE=image/webp:https://piervillage.com/wp-content/uploads/2023/03/surf-shop-sidewalk.webp
END:VEVENT
END:VCALENDAR