BEGIN:VCALENDAR
VERSION:2.0
PRODID:-//Pier Village - ECPv6.15.18//NONSGML v1.0//EN
CALSCALE:GREGORIAN
METHOD:PUBLISH
X-WR-CALNAME:Pier Village
X-ORIGINAL-URL:https://piervillage.com
X-WR-CALDESC:Events for Pier Village
REFRESH-INTERVAL;VALUE=DURATION:PT1H
X-Robots-Tag:noindex
X-PUBLISHED-TTL:PT1H
BEGIN:VTIMEZONE
TZID:UTC
BEGIN:STANDARD
TZOFFSETFROM:+0000
TZOFFSETTO:+0000
TZNAME:UTC
DTSTART:20240101T000000
END:STANDARD
END:VTIMEZONE
BEGIN:VEVENT
DTSTART;VALUE=DATE:20250501
DTEND;VALUE=DATE:20270101
DTSTAMP:20260419T122318
CREATED:20250501T151244Z
LAST-MODIFIED:20251216T202354Z
UID:17536-1746057600-1798761599@piervillage.com
SUMMARY:Let the Good Times Roll at Pier Pins
DESCRIPTION:Challenge your friends to a game of bowling or show off your golf skills on our virtual reality golf simulators. If that’s not your style\, relax with a game of pool or ping pong. And don’t forget to visit our full-service bar for some refreshing drinks. Join us for an unforgettable experience! \nBook Now
URL:https://piervillage.com/event/let-the-good-times-roll-at-pier-pins/
LOCATION:Pier Pins\, 20 Melrose Terrace\, Long Branch\, NJ\, 07740\, United States
CATEGORIES:Family,Food & Drink
ATTACH;FMTTYPE=image/png:https://piervillage.com/wp-content/uploads/2025/05/Untitled-design-5.png
END:VEVENT
BEGIN:VEVENT
DTSTART;VALUE=DATE:20250501
DTEND;VALUE=DATE:20270101
DTSTAMP:20260419T122318
CREATED:20240307T195311Z
LAST-MODIFIED:20251216T202440Z
UID:15317-1746057600-1798761599@piervillage.com
SUMMARY:Boardwalk Fun and Games
DESCRIPTION:Make memories at our family fun center right here in Pier Village.  High end arcade with a full service redemption center.  Fun games for all ages and skill levels.  State of the art virtual reality games\, skee ball\, various crane games and numerous skill and chance games to win points for redemption.  No cash system using a purchased game card for all of the games and redemption. \nWe offer a variety of party packages. Contact richard@pierpins.com for more details and information.
URL:https://piervillage.com/event/boardwalk-fun-and-games/2025-05-01/
LOCATION:Boardwalk Fun and Games\, 115 Morris Avenue\, Long Branch\, NJ\, 07740\, United States
CATEGORIES:Family
ATTACH;FMTTYPE=image/png:https://piervillage.com/wp-content/uploads/2024/03/Untitled-design-2.png
END:VEVENT
BEGIN:VEVENT
DTSTART;TZID=UTC:20260413T080000
DTEND;TZID=UTC:20260413T170000
DTSTAMP:20260419T122318
CREATED:20260218T163458Z
LAST-MODIFIED:20260218T163458Z
UID:18389-1776067200-1776099600@piervillage.com
SUMMARY:Pilates Addict Challenge
DESCRIPTION:Pilates Addict Challenge – April 1–30\nStudio Pilates Long Branch is turning up the heat this April with the Pilates Addict Challenge. Participants are invited to attend as many classes as possible throughout the month. The challenger who completes the most classes will win a Pilates Addict 20-Class Pack valued at $480 (30-day expiry).\nThis is the perfect opportunity to stay accountable\, build strength\, and fully commit to your fitness goals in a motivating studio environment. All levels welcome.\n\n\nPrivate Events & Special Occasions\nStudio Pilates Long Branch also offers private group sessions tailored to special occasions. From bachelorette parties and birthday celebrations to corporate team-building workouts\, family sessions\, and charity events\, the studio can create a customized Pilates experience for your group.\n\nFor more information or to plan a private event\, contact Studio Pilates Long Branch directly. The team is happy to help design the perfect experience.
URL:https://piervillage.com/event/pilates-addict-challenge/2026-04-13/
LOCATION:Studio pilates\, 15 Morris Avenue\, LONG BRANCH\, NJ\, 07740\, United States
CATEGORIES:Health & Fitness
ATTACH;FMTTYPE=image/png:https://piervillage.com/wp-content/uploads/2026/02/At-the-Shore.png
END:VEVENT
END:VCALENDAR