BEGIN:VCALENDAR
VERSION:2.0
PRODID:-//Pier Village - ECPv6.15.18//NONSGML v1.0//EN
CALSCALE:GREGORIAN
METHOD:PUBLISH
X-WR-CALNAME:Pier Village
X-ORIGINAL-URL:https://piervillage.com
X-WR-CALDESC:Events for Pier Village
REFRESH-INTERVAL;VALUE=DURATION:PT1H
X-Robots-Tag:noindex
X-PUBLISHED-TTL:PT1H
BEGIN:VTIMEZONE
TZID:UTC
BEGIN:STANDARD
TZOFFSETFROM:+0000
TZOFFSETTO:+0000
TZNAME:UTC
DTSTART:20220101T000000
END:STANDARD
END:VTIMEZONE
BEGIN:VEVENT
DTSTART;TZID=UTC:20230316T180000
DTEND;TZID=UTC:20230316T200000
DTSTAMP:20260424T103828
CREATED:20230314T190932Z
LAST-MODIFIED:20230314T190932Z
UID:7590-1678989600-1678996800@piervillage.com
SUMMARY:BOARDWALK AFTER DARK ENTERTAINMENT
DESCRIPTION:Join us weekly for live entertainment in Boardwalk Coffee from 6:00 PM to 8:00 PM. \n3/2~Live Music with Ryan Gregg and Shayne Desena \n3/9~Live Music with Kevin Hill \n3/16~Live Music with Emily Grove \n3/23~Music Bingo \n3/30~Trivia  \n4/6~Johnny Philipps  \n4/13~Live Music with Kevin Hill  \n4/20~Trivia  \n4/27~Live Music with Ryan Gregg and Shayne Desena
URL:https://piervillage.com/event/boardwalk-after-dark-entertainment/2023-03-16/
LOCATION:Boardwalk Coffee
CATEGORIES:Family
ATTACH;FMTTYPE=image/webp:https://piervillage.com/wp-content/uploads/2023/03/Boardwalk-after-dark.webp
END:VEVENT
END:VCALENDAR