BEGIN:VCALENDAR
VERSION:2.0
PRODID:-//Pier Village - ECPv6.15.18//NONSGML v1.0//EN
CALSCALE:GREGORIAN
METHOD:PUBLISH
X-WR-CALNAME:Pier Village
X-ORIGINAL-URL:https://piervillage.com
X-WR-CALDESC:Events for Pier Village
REFRESH-INTERVAL;VALUE=DURATION:PT1H
X-Robots-Tag:noindex
X-PUBLISHED-TTL:PT1H
BEGIN:VTIMEZONE
TZID:UTC
BEGIN:STANDARD
TZOFFSETFROM:+0000
TZOFFSETTO:+0000
TZNAME:UTC
DTSTART:20250101T000000
END:STANDARD
END:VTIMEZONE
BEGIN:VEVENT
DTSTART;TZID=UTC:20260516T110000
DTEND;TZID=UTC:20260516T180000
DTSTAMP:20260419T140624
CREATED:20260327T173318Z
LAST-MODIFIED:20260413T191006Z
UID:19079-1778929200-1778954400@piervillage.com
SUMMARY:High Tide Makers & Artisan Market
DESCRIPTION:High Tide Makers & Artisan Market at Pier Village\nExperience the best of the Jersey Shore at the High Tide Makers & Artisan Market\, set along the scenic boardwalk promenade at Pier Village. This open-air market brings together a curated collection of local makers\, artists\, and creatives\, offering everything from handmade jewelry and artwork to home décor\, gifts\, and one-of-a-kind finds. \nSet against the backdrop of the Atlantic Ocean\, this vibrant market invites visitors to shop local\, stroll the boardwalk\, and soak in the coastal atmosphere. Whether you’re searching for a unique piece or simply enjoying the seaside energy\, it’s the perfect way to spend the day by the beach. \nMake It a Full Coastal Experience: \n\nShop: Explore boutique retailers and discover unique treasures throughout the village\nDine: Enjoy oceanfront restaurants\, casual bites\, coffee stops\, and sweet treats steps from the sand\nPlay & Entertainment: Visit Pier Pins for bowling and games\, or enjoy mini golf and classic boardwalk fun\nWellness: Refresh with spa services\, fitness studios\, and relaxation experiences\nStay the Weekend: Turn your visit into a getaway with an oceanfront stay at Wave Resort or the boutique-style Bungalow Hotel\n\nWith artisan shopping\, seaside dining\, entertainment\, and ocean views\, the High Tide Makers & Artisan Market is more than an event — it’s a full destination experience at the Jersey Shore. \nShop. Stroll. Stay. Experience Pier Village.
URL:https://piervillage.com/event/high-tide-makers-artisan-market-4/2026-05-16/
LOCATION:Carousel Stage | Pier Village
CATEGORIES:Shop
ATTACH;FMTTYPE=image/jpeg:https://piervillage.com/wp-content/uploads/2026/03/Screenshot_27-3-2026_133133_www.canva_.com_.jpeg
END:VEVENT
BEGIN:VEVENT
DTSTART;TZID=UTC:20260523T110000
DTEND;TZID=UTC:20260523T180000
DTSTAMP:20260419T140624
CREATED:20260327T173318Z
LAST-MODIFIED:20260327T173318Z
UID:19168-1779534000-1779559200@piervillage.com
SUMMARY:High Tide Makers & Artisan Market
DESCRIPTION:High Tide Makers & Artisan Market at Pier Village\nExperience the best of the Jersey Shore at the High Tide Makers & Artisan Market\, set along the scenic boardwalk promenade at Pier Village. This open-air market brings together a curated collection of local makers\, artists\, and creatives\, offering everything from handmade jewelry and artwork to home décor\, gifts\, and one-of-a-kind finds. \nSet against the backdrop of the Atlantic Ocean\, this vibrant market invites visitors to shop local\, stroll the boardwalk\, and soak in the coastal atmosphere. Whether you’re searching for a unique piece or simply enjoying the seaside energy\, it’s the perfect way to spend the day by the beach. \nMake It a Full Coastal Experience: \n\nShop: Explore boutique retailers and discover unique treasures throughout the village\nDine: Enjoy oceanfront restaurants\, casual bites\, coffee stops\, and sweet treats steps from the sand\nPlay & Entertainment: Visit Pier Pins for bowling and games\, or enjoy mini golf and classic boardwalk fun\nWellness: Refresh with spa services\, fitness studios\, and relaxation experiences\nStay the Weekend: Turn your visit into a getaway with an oceanfront stay at Wave Resort or the boutique-style Bungalow Hotel\n\nWith artisan shopping\, seaside dining\, entertainment\, and ocean views\, the High Tide Makers & Artisan Market is more than an event — it’s a full destination experience at the Jersey Shore. \nShop. Stroll. Stay. Experience Pier Village.
URL:https://piervillage.com/event/high-tide-makers-artisan-market-4/2026-05-23/
LOCATION:Carousel Stage | Pier Village
CATEGORIES:Shop
ATTACH;FMTTYPE=image/jpeg:https://piervillage.com/wp-content/uploads/2026/03/Screenshot_27-3-2026_133133_www.canva_.com_.jpeg
END:VEVENT
BEGIN:VEVENT
DTSTART;TZID=UTC:20260530T110000
DTEND;TZID=UTC:20260530T180000
DTSTAMP:20260419T140624
CREATED:20260327T173318Z
LAST-MODIFIED:20260327T173318Z
UID:19169-1780138800-1780164000@piervillage.com
SUMMARY:High Tide Makers & Artisan Market
DESCRIPTION:High Tide Makers & Artisan Market at Pier Village\nExperience the best of the Jersey Shore at the High Tide Makers & Artisan Market\, set along the scenic boardwalk promenade at Pier Village. This open-air market brings together a curated collection of local makers\, artists\, and creatives\, offering everything from handmade jewelry and artwork to home décor\, gifts\, and one-of-a-kind finds. \nSet against the backdrop of the Atlantic Ocean\, this vibrant market invites visitors to shop local\, stroll the boardwalk\, and soak in the coastal atmosphere. Whether you’re searching for a unique piece or simply enjoying the seaside energy\, it’s the perfect way to spend the day by the beach. \nMake It a Full Coastal Experience: \n\nShop: Explore boutique retailers and discover unique treasures throughout the village\nDine: Enjoy oceanfront restaurants\, casual bites\, coffee stops\, and sweet treats steps from the sand\nPlay & Entertainment: Visit Pier Pins for bowling and games\, or enjoy mini golf and classic boardwalk fun\nWellness: Refresh with spa services\, fitness studios\, and relaxation experiences\nStay the Weekend: Turn your visit into a getaway with an oceanfront stay at Wave Resort or the boutique-style Bungalow Hotel\n\nWith artisan shopping\, seaside dining\, entertainment\, and ocean views\, the High Tide Makers & Artisan Market is more than an event — it’s a full destination experience at the Jersey Shore. \nShop. Stroll. Stay. Experience Pier Village.
URL:https://piervillage.com/event/high-tide-makers-artisan-market-4/2026-05-30/
LOCATION:Carousel Stage | Pier Village
CATEGORIES:Shop
ATTACH;FMTTYPE=image/jpeg:https://piervillage.com/wp-content/uploads/2026/03/Screenshot_27-3-2026_133133_www.canva_.com_.jpeg
END:VEVENT
BEGIN:VEVENT
DTSTART;TZID=UTC:20260606T110000
DTEND;TZID=UTC:20260606T180000
DTSTAMP:20260419T140624
CREATED:20260327T173318Z
LAST-MODIFIED:20260327T173318Z
UID:19170-1780743600-1780768800@piervillage.com
SUMMARY:High Tide Makers & Artisan Market
DESCRIPTION:High Tide Makers & Artisan Market at Pier Village\nExperience the best of the Jersey Shore at the High Tide Makers & Artisan Market\, set along the scenic boardwalk promenade at Pier Village. This open-air market brings together a curated collection of local makers\, artists\, and creatives\, offering everything from handmade jewelry and artwork to home décor\, gifts\, and one-of-a-kind finds. \nSet against the backdrop of the Atlantic Ocean\, this vibrant market invites visitors to shop local\, stroll the boardwalk\, and soak in the coastal atmosphere. Whether you’re searching for a unique piece or simply enjoying the seaside energy\, it’s the perfect way to spend the day by the beach. \nMake It a Full Coastal Experience: \n\nShop: Explore boutique retailers and discover unique treasures throughout the village\nDine: Enjoy oceanfront restaurants\, casual bites\, coffee stops\, and sweet treats steps from the sand\nPlay & Entertainment: Visit Pier Pins for bowling and games\, or enjoy mini golf and classic boardwalk fun\nWellness: Refresh with spa services\, fitness studios\, and relaxation experiences\nStay the Weekend: Turn your visit into a getaway with an oceanfront stay at Wave Resort or the boutique-style Bungalow Hotel\n\nWith artisan shopping\, seaside dining\, entertainment\, and ocean views\, the High Tide Makers & Artisan Market is more than an event — it’s a full destination experience at the Jersey Shore. \nShop. Stroll. Stay. Experience Pier Village.
URL:https://piervillage.com/event/high-tide-makers-artisan-market-4/2026-06-06/
LOCATION:Carousel Stage | Pier Village
CATEGORIES:Shop
ATTACH;FMTTYPE=image/jpeg:https://piervillage.com/wp-content/uploads/2026/03/Screenshot_27-3-2026_133133_www.canva_.com_.jpeg
END:VEVENT
BEGIN:VEVENT
DTSTART;TZID=UTC:20260613T110000
DTEND;TZID=UTC:20260613T180000
DTSTAMP:20260419T140624
CREATED:20260327T173318Z
LAST-MODIFIED:20260327T173318Z
UID:19171-1781348400-1781373600@piervillage.com
SUMMARY:High Tide Makers & Artisan Market
DESCRIPTION:High Tide Makers & Artisan Market at Pier Village\nExperience the best of the Jersey Shore at the High Tide Makers & Artisan Market\, set along the scenic boardwalk promenade at Pier Village. This open-air market brings together a curated collection of local makers\, artists\, and creatives\, offering everything from handmade jewelry and artwork to home décor\, gifts\, and one-of-a-kind finds. \nSet against the backdrop of the Atlantic Ocean\, this vibrant market invites visitors to shop local\, stroll the boardwalk\, and soak in the coastal atmosphere. Whether you’re searching for a unique piece or simply enjoying the seaside energy\, it’s the perfect way to spend the day by the beach. \nMake It a Full Coastal Experience: \n\nShop: Explore boutique retailers and discover unique treasures throughout the village\nDine: Enjoy oceanfront restaurants\, casual bites\, coffee stops\, and sweet treats steps from the sand\nPlay & Entertainment: Visit Pier Pins for bowling and games\, or enjoy mini golf and classic boardwalk fun\nWellness: Refresh with spa services\, fitness studios\, and relaxation experiences\nStay the Weekend: Turn your visit into a getaway with an oceanfront stay at Wave Resort or the boutique-style Bungalow Hotel\n\nWith artisan shopping\, seaside dining\, entertainment\, and ocean views\, the High Tide Makers & Artisan Market is more than an event — it’s a full destination experience at the Jersey Shore. \nShop. Stroll. Stay. Experience Pier Village.
URL:https://piervillage.com/event/high-tide-makers-artisan-market-4/2026-06-13/
LOCATION:Carousel Stage | Pier Village
CATEGORIES:Shop
ATTACH;FMTTYPE=image/jpeg:https://piervillage.com/wp-content/uploads/2026/03/Screenshot_27-3-2026_133133_www.canva_.com_.jpeg
END:VEVENT
BEGIN:VEVENT
DTSTART;TZID=UTC:20260620T110000
DTEND;TZID=UTC:20260620T180000
DTSTAMP:20260419T140624
CREATED:20260327T173318Z
LAST-MODIFIED:20260327T173318Z
UID:19172-1781953200-1781978400@piervillage.com
SUMMARY:High Tide Makers & Artisan Market
DESCRIPTION:High Tide Makers & Artisan Market at Pier Village\nExperience the best of the Jersey Shore at the High Tide Makers & Artisan Market\, set along the scenic boardwalk promenade at Pier Village. This open-air market brings together a curated collection of local makers\, artists\, and creatives\, offering everything from handmade jewelry and artwork to home décor\, gifts\, and one-of-a-kind finds. \nSet against the backdrop of the Atlantic Ocean\, this vibrant market invites visitors to shop local\, stroll the boardwalk\, and soak in the coastal atmosphere. Whether you’re searching for a unique piece or simply enjoying the seaside energy\, it’s the perfect way to spend the day by the beach. \nMake It a Full Coastal Experience: \n\nShop: Explore boutique retailers and discover unique treasures throughout the village\nDine: Enjoy oceanfront restaurants\, casual bites\, coffee stops\, and sweet treats steps from the sand\nPlay & Entertainment: Visit Pier Pins for bowling and games\, or enjoy mini golf and classic boardwalk fun\nWellness: Refresh with spa services\, fitness studios\, and relaxation experiences\nStay the Weekend: Turn your visit into a getaway with an oceanfront stay at Wave Resort or the boutique-style Bungalow Hotel\n\nWith artisan shopping\, seaside dining\, entertainment\, and ocean views\, the High Tide Makers & Artisan Market is more than an event — it’s a full destination experience at the Jersey Shore. \nShop. Stroll. Stay. Experience Pier Village.
URL:https://piervillage.com/event/high-tide-makers-artisan-market-4/2026-06-20/
LOCATION:Carousel Stage | Pier Village
CATEGORIES:Shop
ATTACH;FMTTYPE=image/jpeg:https://piervillage.com/wp-content/uploads/2026/03/Screenshot_27-3-2026_133133_www.canva_.com_.jpeg
END:VEVENT
BEGIN:VEVENT
DTSTART;TZID=UTC:20260627T110000
DTEND;TZID=UTC:20260627T180000
DTSTAMP:20260419T140624
CREATED:20260327T173318Z
LAST-MODIFIED:20260327T173318Z
UID:19173-1782558000-1782583200@piervillage.com
SUMMARY:High Tide Makers & Artisan Market
DESCRIPTION:High Tide Makers & Artisan Market at Pier Village\nExperience the best of the Jersey Shore at the High Tide Makers & Artisan Market\, set along the scenic boardwalk promenade at Pier Village. This open-air market brings together a curated collection of local makers\, artists\, and creatives\, offering everything from handmade jewelry and artwork to home décor\, gifts\, and one-of-a-kind finds. \nSet against the backdrop of the Atlantic Ocean\, this vibrant market invites visitors to shop local\, stroll the boardwalk\, and soak in the coastal atmosphere. Whether you’re searching for a unique piece or simply enjoying the seaside energy\, it’s the perfect way to spend the day by the beach. \nMake It a Full Coastal Experience: \n\nShop: Explore boutique retailers and discover unique treasures throughout the village\nDine: Enjoy oceanfront restaurants\, casual bites\, coffee stops\, and sweet treats steps from the sand\nPlay & Entertainment: Visit Pier Pins for bowling and games\, or enjoy mini golf and classic boardwalk fun\nWellness: Refresh with spa services\, fitness studios\, and relaxation experiences\nStay the Weekend: Turn your visit into a getaway with an oceanfront stay at Wave Resort or the boutique-style Bungalow Hotel\n\nWith artisan shopping\, seaside dining\, entertainment\, and ocean views\, the High Tide Makers & Artisan Market is more than an event — it’s a full destination experience at the Jersey Shore. \nShop. Stroll. Stay. Experience Pier Village.
URL:https://piervillage.com/event/high-tide-makers-artisan-market-4/2026-06-27/
LOCATION:Carousel Stage | Pier Village
CATEGORIES:Shop
ATTACH;FMTTYPE=image/jpeg:https://piervillage.com/wp-content/uploads/2026/03/Screenshot_27-3-2026_133133_www.canva_.com_.jpeg
END:VEVENT
BEGIN:VEVENT
DTSTART;TZID=UTC:20260727T190000
DTEND;TZID=UTC:20260727T203000
DTSTAMP:20260419T140624
CREATED:20250530T184406Z
LAST-MODIFIED:20260225T183435Z
UID:17705-1785178800-1785184200@piervillage.com
SUMMARY:AM Gold Yacht Rock
DESCRIPTION:Set sail into summer with AM Gold Yacht Rock\, bringing smooth grooves and laid-back vibes to the Carousel Stage at Pier Village. Enjoy an evening of classic soft rock hits from the late ’70s and early ’80s\, perfect for dancing\, relaxing\, or just swaying with the ocean breeze. \n🌴 FREE & Family-Friendly🎤 Live Music • Ocean Views • Great Vibes \nBring a blanket or a beach chair and make it a night to remember! \n#PierVillage #YachtRock #LiveMusic #AMGold #SummerVibes #FreeEvent #LongBranchNJ \nIn the event of inclement weather\, the concert will be rescheduled for 9/14/2026
URL:https://piervillage.com/event/am-gold-yacht-rock/
LOCATION:Carousel Stage | Pier Village
CATEGORIES:Music
ATTACH;FMTTYPE=image/jpeg:https://piervillage.com/wp-content/uploads/2025/05/At-the-Shore-6.jpg
END:VEVENT
BEGIN:VEVENT
DTSTART;TZID=UTC:20260803T190000
DTEND;TZID=UTC:20260803T203000
DTSTAMP:20260419T140624
CREATED:20230614T205235Z
LAST-MODIFIED:20260225T183629Z
UID:9342-1785783600-1785789000@piervillage.com
SUMMARY:Damn The Torpedoes-Tom Petty Concert Experience
DESCRIPTION:Damn the Torpedoes: A Tribute to Tom Petty & The Heartbreakers \n📍 Location: Carousel Stage\, Pier Village🎟️ Admission: Complimentary \nMesmerizing audiences since 2007\, Damn the Torpedoes brings the full Tom Petty and the Heartbreakers experience to life. Whether recreating the studio recordings note for note or channeling the energy of Tom Petty’s legendary live shows\, this band consistently delivers the “AWE” factor. \nJoin us seaside for an unforgettable night of classic hits\, deep cuts\, and rock ‘n’ roll magic — complimentary and open to the public. \nEvent subject to change or cancellation at any time without notice.
URL:https://piervillage.com/event/damn-the-torpedoes-tom-petty-the-heartbreakers-concert/
LOCATION:Carousel Stage | Pier Village
CATEGORIES:Music
ATTACH;FMTTYPE=image/png:https://piervillage.com/wp-content/uploads/2023/06/June-Entertainment-510-x-510-px-8.png
END:VEVENT
END:VCALENDAR