BEGIN:VCALENDAR
VERSION:2.0
PRODID:-//Pier Village - ECPv6.15.18//NONSGML v1.0//EN
CALSCALE:GREGORIAN
METHOD:PUBLISH
X-WR-CALNAME:Pier Village
X-ORIGINAL-URL:https://piervillage.com
X-WR-CALDESC:Events for Pier Village
REFRESH-INTERVAL;VALUE=DURATION:PT1H
X-Robots-Tag:noindex
X-PUBLISHED-TTL:PT1H
BEGIN:VTIMEZONE
TZID:UTC
BEGIN:STANDARD
TZOFFSETFROM:+0000
TZOFFSETTO:+0000
TZNAME:UTC
DTSTART:20230101T000000
END:STANDARD
END:VTIMEZONE
BEGIN:VEVENT
DTSTART;TZID=UTC:20250518T110000
DTEND;TZID=UTC:20250518T180000
DTSTAMP:20260425T173205
CREATED:20250425T181259Z
LAST-MODIFIED:20250425T181259Z
UID:17491-1747566000-1747591200@piervillage.com
SUMMARY:High Tide Makers and Artisan Market
DESCRIPTION:Come join us at Pier Village for a day filled with creativity and local treasures! Our makers and artisans will showcase their unique creations for you to explore and purchase. From handmade jewelry to one-of-a-kind artwork\, there’s something for everyone at this event. Don’t miss out on the opportunity to support local talent and find that special piece you’ve been searching for. See you there!
URL:https://piervillage.com/event/high-tide-makers-and-artisan-market/
LOCATION:Carousel Stage | Pier Village
CATEGORIES:Shop
ATTACH;FMTTYPE=image/jpeg:https://piervillage.com/wp-content/uploads/2025/04/Untitled-design-4.jpg
END:VEVENT
BEGIN:VEVENT
DTSTART;TZID=UTC:20250510T110000
DTEND;TZID=UTC:20250510T180000
DTSTAMP:20260425T173205
CREATED:20250425T154356Z
LAST-MODIFIED:20250429T201652Z
UID:17477-1746874800-1746900000@piervillage.com
SUMMARY:Mother's Day Makers and Artisan Market
DESCRIPTION:Welcome to the Mother’s Day Makers and Artisan Market! Join us at Pier Village for a day filled with unique handmade treasures and one-of-a-kind finds. Show your mom some love by browsing through a variety of local vendors offering everything from handmade jewelry to artisanal crafts. Discover the perfect gift that will make this Mother’s Day extra special. Don’t miss out on this opportunity to support small businesses and find something truly special for your mom!
URL:https://piervillage.com/event/mothers-day-makers-and-artisan-market/
LOCATION:Carousel Stage | Pier Village
CATEGORIES:Shop
ATTACH;FMTTYPE=image/jpeg:https://piervillage.com/wp-content/uploads/2025/04/Screenshot_25-4-2025_114322_www.canva_.com_.jpeg
END:VEVENT
BEGIN:VEVENT
DTSTART;TZID=UTC:20241012T130000
DTEND;TZID=UTC:20241012T150000
DTSTAMP:20260425T173205
CREATED:20230928T192805Z
LAST-MODIFIED:20240924T154741Z
UID:16125-1728738000-1728745200@piervillage.com
SUMMARY:Strings by-the-Sea
DESCRIPTION:Stroll through our beautiful Village while the air is flourished with the sounds of a symphony of strings. Performances will be held on the Carousel Stage from 1PM – 3PM. \n*Performances subject to change and/or cancel without notice.
URL:https://piervillage.com/event/sounds-of-the-seasons/2024-10-12/
LOCATION:Carousel Stage | Pier Village
CATEGORIES:Music
ATTACH;FMTTYPE=image/jpeg:https://piervillage.com/wp-content/uploads/2023/09/Harp-and-cellist.jpg
END:VEVENT
BEGIN:VEVENT
DTSTART;TZID=UTC:20241005T130000
DTEND;TZID=UTC:20241005T150000
DTSTAMP:20260425T173205
CREATED:20230928T192805Z
LAST-MODIFIED:20240924T154741Z
UID:16124-1728133200-1728140400@piervillage.com
SUMMARY:Strings by-the-Sea
DESCRIPTION:Stroll through our beautiful Village while the air is flourished with the sounds of a symphony of strings. Performances will be held on the Carousel Stage from 1PM – 3PM. \n*Performances subject to change and/or cancel without notice.
URL:https://piervillage.com/event/sounds-of-the-seasons/2024-10-05/
LOCATION:Carousel Stage | Pier Village
CATEGORIES:Music
ATTACH;FMTTYPE=image/jpeg:https://piervillage.com/wp-content/uploads/2023/09/Harp-and-cellist.jpg
END:VEVENT
BEGIN:VEVENT
DTSTART;TZID=UTC:20240929T110000
DTEND;TZID=UTC:20240929T180000
DTSTAMP:20260425T173205
CREATED:20230531T191010Z
LAST-MODIFIED:20230531T191010Z
UID:16074-1727607600-1727632800@piervillage.com
SUMMARY:HIGH TIDE MAKERS + ARTISAN MARKET
DESCRIPTION:Join us from 11AM to 6PM at the High Tide Makers + Artisan open – air Market offering unique creations from local makers and artisans on the Carousel Promenade. \nPerformances by The School of Rock \nWhether you are looking for shopping or dining for something quick and casual or are interested in fine dining\, you’ll find it here. As the most exciting beachfront destination at the Jersey Shore\, Pier Village offers family friendly dining and an array of specialty shops and boutiques with a backdrop of breathtaking views of the ocean. \n 
URL:https://piervillage.com/event/high-tide-makers-artisan-market-3/2024-09-29/
LOCATION:Carousel Stage | Pier Village
CATEGORIES:Family,Shop
ATTACH;FMTTYPE=image/webp:https://piervillage.com/wp-content/uploads/2023/03/artisan-market.webp
END:VEVENT
BEGIN:VEVENT
DTSTART;TZID=UTC:20240928T130000
DTEND;TZID=UTC:20240928T150000
DTSTAMP:20260425T173205
CREATED:20230928T192805Z
LAST-MODIFIED:20240924T154740Z
UID:16123-1727528400-1727535600@piervillage.com
SUMMARY:Strings by-the-Sea
DESCRIPTION:Stroll through our beautiful Village while the air is flourished with the sounds of a symphony of strings. Performances will be held on the Carousel Stage from 1PM – 3PM. \n*Performances subject to change and/or cancel without notice.
URL:https://piervillage.com/event/sounds-of-the-seasons/2024-09-28/
LOCATION:Carousel Stage | Pier Village
CATEGORIES:Music
ATTACH;FMTTYPE=image/jpeg:https://piervillage.com/wp-content/uploads/2023/09/Harp-and-cellist.jpg
END:VEVENT
BEGIN:VEVENT
DTSTART;TZID=UTC:20240922T110000
DTEND;TZID=UTC:20240922T180000
DTSTAMP:20260425T173205
CREATED:20230531T191010Z
LAST-MODIFIED:20230531T191010Z
UID:16073-1727002800-1727028000@piervillage.com
SUMMARY:HIGH TIDE MAKERS + ARTISAN MARKET
DESCRIPTION:Join us from 11AM to 6PM at the High Tide Makers + Artisan open – air Market offering unique creations from local makers and artisans on the Carousel Promenade. \nPerformances by The School of Rock \nWhether you are looking for shopping or dining for something quick and casual or are interested in fine dining\, you’ll find it here. As the most exciting beachfront destination at the Jersey Shore\, Pier Village offers family friendly dining and an array of specialty shops and boutiques with a backdrop of breathtaking views of the ocean. \n 
URL:https://piervillage.com/event/high-tide-makers-artisan-market-3/2024-09-22/
LOCATION:Carousel Stage | Pier Village
CATEGORIES:Family,Shop
ATTACH;FMTTYPE=image/webp:https://piervillage.com/wp-content/uploads/2023/03/artisan-market.webp
END:VEVENT
BEGIN:VEVENT
DTSTART;TZID=UTC:20240921T130000
DTEND;TZID=UTC:20240921T150000
DTSTAMP:20260425T173205
CREATED:20230928T192805Z
LAST-MODIFIED:20240924T154740Z
UID:16122-1726923600-1726930800@piervillage.com
SUMMARY:Strings by-the-Sea
DESCRIPTION:Stroll through our beautiful Village while the air is flourished with the sounds of a symphony of strings. Performances will be held on the Carousel Stage from 1PM – 3PM. \n*Performances subject to change and/or cancel without notice.
URL:https://piervillage.com/event/sounds-of-the-seasons/2024-09-21/
LOCATION:Carousel Stage | Pier Village
CATEGORIES:Music
ATTACH;FMTTYPE=image/jpeg:https://piervillage.com/wp-content/uploads/2023/09/Harp-and-cellist.jpg
END:VEVENT
BEGIN:VEVENT
DTSTART;TZID=UTC:20240914T130000
DTEND;TZID=UTC:20240914T150000
DTSTAMP:20260425T173205
CREATED:20230928T192805Z
LAST-MODIFIED:20240924T154739Z
UID:16121-1726318800-1726326000@piervillage.com
SUMMARY:Strings by-the-Sea
DESCRIPTION:Stroll through our beautiful Village while the air is flourished with the sounds of a symphony of strings. Performances will be held on the Carousel Stage from 1PM – 3PM. \n*Performances subject to change and/or cancel without notice.
URL:https://piervillage.com/event/sounds-of-the-seasons/2024-09-14/
LOCATION:Carousel Stage | Pier Village
CATEGORIES:Music
ATTACH;FMTTYPE=image/jpeg:https://piervillage.com/wp-content/uploads/2023/09/Harp-and-cellist.jpg
END:VEVENT
BEGIN:VEVENT
DTSTART;TZID=UTC:20240908T110000
DTEND;TZID=UTC:20240908T180000
DTSTAMP:20260425T173205
CREATED:20230531T191010Z
LAST-MODIFIED:20230531T191010Z
UID:16072-1725793200-1725818400@piervillage.com
SUMMARY:HIGH TIDE MAKERS + ARTISAN MARKET
DESCRIPTION:Join us from 11AM to 6PM at the High Tide Makers + Artisan open – air Market offering unique creations from local makers and artisans on the Carousel Promenade. \nPerformances by The School of Rock \nWhether you are looking for shopping or dining for something quick and casual or are interested in fine dining\, you’ll find it here. As the most exciting beachfront destination at the Jersey Shore\, Pier Village offers family friendly dining and an array of specialty shops and boutiques with a backdrop of breathtaking views of the ocean. \n 
URL:https://piervillage.com/event/high-tide-makers-artisan-market-3/2024-09-08/
LOCATION:Carousel Stage | Pier Village
CATEGORIES:Family,Shop
ATTACH;FMTTYPE=image/webp:https://piervillage.com/wp-content/uploads/2023/03/artisan-market.webp
END:VEVENT
BEGIN:VEVENT
DTSTART;TZID=UTC:20240907T130000
DTEND;TZID=UTC:20240907T150000
DTSTAMP:20260425T173205
CREATED:20230928T192805Z
LAST-MODIFIED:20240924T154739Z
UID:12514-1725714000-1725721200@piervillage.com
SUMMARY:Strings by-the-Sea
DESCRIPTION:Stroll through our beautiful Village while the air is flourished with the sounds of a symphony of strings. Performances will be held on the Carousel Stage from 1PM – 3PM. \n*Performances subject to change and/or cancel without notice.
URL:https://piervillage.com/event/sounds-of-the-seasons/2024-09-07/
LOCATION:Carousel Stage | Pier Village
CATEGORIES:Music
ATTACH;FMTTYPE=image/jpeg:https://piervillage.com/wp-content/uploads/2023/09/Harp-and-cellist.jpg
END:VEVENT
BEGIN:VEVENT
DTSTART;TZID=UTC:20240830T110000
DTEND;TZID=UTC:20240830T180000
DTSTAMP:20260425T173205
CREATED:20240604T171505Z
LAST-MODIFIED:20240604T171505Z
UID:15958-1725015600-1725040800@piervillage.com
SUMMARY:School of Rock
DESCRIPTION:Join us for performances by local artists from the School of Rock from 11AM to 6PM at the High Tide Makers + Artisan open – air Market every Friday. \n  \nPerformances are complimentary and open to the general public.
URL:https://piervillage.com/event/school-of-rock/2024-08-30/
LOCATION:Carousel Stage | Pier Village
CATEGORIES:Music
ATTACH;FMTTYPE=image/jpeg:https://piervillage.com/wp-content/uploads/2024/06/School-of-Rock.jpg
END:VEVENT
BEGIN:VEVENT
DTSTART;TZID=UTC:20240830T110000
DTEND;TZID=UTC:20240830T180000
DTSTAMP:20260425T173205
CREATED:20230531T191010Z
LAST-MODIFIED:20240722T191959Z
UID:15659-1725015600-1725040800@piervillage.com
SUMMARY:HIGH TIDE MAKERS + ARTISAN MARKET
DESCRIPTION:Join us from 11AM to 6PM at the High Tide Makers + Artisan open – air Market offering unique creations from local makers and artisans on the Carousel Promenade. \nPerformances by The School of Rock \nWhether you are looking for shopping or dining for something quick and casual or are interested in fine dining\, you’ll find it here. As the most exciting beachfront destination at the Jersey Shore\, Pier Village offers family friendly dining and an array of specialty shops and boutiques with a backdrop of breathtaking views of the ocean. \n 
URL:https://piervillage.com/event/high-tide-makers-artisan-market-3/2024-08-30/
LOCATION:Carousel Stage | Pier Village
CATEGORIES:Family,Shop
ATTACH;FMTTYPE=image/webp:https://piervillage.com/wp-content/uploads/2023/03/artisan-market.webp
END:VEVENT
BEGIN:VEVENT
DTSTART;TZID=UTC:20240823T110000
DTEND;TZID=UTC:20240823T180000
DTSTAMP:20260425T173205
CREATED:20240604T171505Z
LAST-MODIFIED:20240604T171505Z
UID:15957-1724410800-1724436000@piervillage.com
SUMMARY:School of Rock
DESCRIPTION:Join us for performances by local artists from the School of Rock from 11AM to 6PM at the High Tide Makers + Artisan open – air Market every Friday. \n  \nPerformances are complimentary and open to the general public.
URL:https://piervillage.com/event/school-of-rock/2024-08-23/
LOCATION:Carousel Stage | Pier Village
CATEGORIES:Music
ATTACH;FMTTYPE=image/jpeg:https://piervillage.com/wp-content/uploads/2024/06/School-of-Rock.jpg
END:VEVENT
BEGIN:VEVENT
DTSTART;TZID=UTC:20240823T110000
DTEND;TZID=UTC:20240823T180000
DTSTAMP:20260425T173205
CREATED:20230531T191010Z
LAST-MODIFIED:20240722T191959Z
UID:15658-1724410800-1724436000@piervillage.com
SUMMARY:HIGH TIDE MAKERS + ARTISAN MARKET
DESCRIPTION:Join us from 11AM to 6PM at the High Tide Makers + Artisan open – air Market offering unique creations from local makers and artisans on the Carousel Promenade. \nPerformances by The School of Rock \nWhether you are looking for shopping or dining for something quick and casual or are interested in fine dining\, you’ll find it here. As the most exciting beachfront destination at the Jersey Shore\, Pier Village offers family friendly dining and an array of specialty shops and boutiques with a backdrop of breathtaking views of the ocean. \n 
URL:https://piervillage.com/event/high-tide-makers-artisan-market-3/2024-08-23/
LOCATION:Carousel Stage | Pier Village
CATEGORIES:Family,Shop
ATTACH;FMTTYPE=image/webp:https://piervillage.com/wp-content/uploads/2023/03/artisan-market.webp
END:VEVENT
BEGIN:VEVENT
DTSTART;TZID=UTC:20240816T110000
DTEND;TZID=UTC:20240816T180000
DTSTAMP:20260425T173205
CREATED:20240604T171505Z
LAST-MODIFIED:20240604T171505Z
UID:15956-1723806000-1723831200@piervillage.com
SUMMARY:School of Rock
DESCRIPTION:Join us for performances by local artists from the School of Rock from 11AM to 6PM at the High Tide Makers + Artisan open – air Market every Friday. \n  \nPerformances are complimentary and open to the general public.
URL:https://piervillage.com/event/school-of-rock/2024-08-16/
LOCATION:Carousel Stage | Pier Village
CATEGORIES:Music
ATTACH;FMTTYPE=image/jpeg:https://piervillage.com/wp-content/uploads/2024/06/School-of-Rock.jpg
END:VEVENT
BEGIN:VEVENT
DTSTART;TZID=UTC:20240816T110000
DTEND;TZID=UTC:20240816T180000
DTSTAMP:20260425T173205
CREATED:20230531T191010Z
LAST-MODIFIED:20240722T191959Z
UID:15657-1723806000-1723831200@piervillage.com
SUMMARY:HIGH TIDE MAKERS + ARTISAN MARKET
DESCRIPTION:Join us from 11AM to 6PM at the High Tide Makers + Artisan open – air Market offering unique creations from local makers and artisans on the Carousel Promenade. \nPerformances by The School of Rock \nWhether you are looking for shopping or dining for something quick and casual or are interested in fine dining\, you’ll find it here. As the most exciting beachfront destination at the Jersey Shore\, Pier Village offers family friendly dining and an array of specialty shops and boutiques with a backdrop of breathtaking views of the ocean. \n 
URL:https://piervillage.com/event/high-tide-makers-artisan-market-3/2024-08-16/
LOCATION:Carousel Stage | Pier Village
CATEGORIES:Family,Shop
ATTACH;FMTTYPE=image/webp:https://piervillage.com/wp-content/uploads/2023/03/artisan-market.webp
END:VEVENT
BEGIN:VEVENT
DTSTART;TZID=UTC:20240812T190000
DTEND;TZID=UTC:20240812T203000
DTSTAMP:20260425T173205
CREATED:20240604T165030Z
LAST-MODIFIED:20240604T165030Z
UID:15946-1723489200-1723494600@piervillage.com
SUMMARY:Black Dog | The Ultimate Led Zeppelin Experience
DESCRIPTION:Black Dog proudly pays tribute to the mighty Led Zeppelin with an extensive catalogue of songs comprised of classic masterpieces like “Dazed and Confused”\, “Heartbreaker”\, and “Stairway to Heaven”\, as well as the less heard  B-sides to satisfy the more discerning fans. \n  A complete acoustic set recreates an intimate setting with mandolin and custom tuned guitars played on stools\, bringing to life songs like “Going to California”\, “Friends”\, and “That’s the Way”. \n  The show also includes extended versions that recapture the true live experience such as The Song Remains the Same’s “Whole Lotta Love”\, complete with Page’s magical Theramin solo! \n  The members established the band in early 2000\, and they are all accomplished musicians with considerable experience. Black Dog is the definitive Led Zeppelin tribute band. \n  Keeping the music of Led Zeppelin Live!
URL:https://piervillage.com/event/black-dog-the-ultimate-led-zeppelin-experience/
LOCATION:Carousel Stage | Pier Village
CATEGORIES:Music
ATTACH;FMTTYPE=image/jpeg:https://piervillage.com/wp-content/uploads/2024/06/Black-Dog.jpg
END:VEVENT
BEGIN:VEVENT
DTSTART;TZID=UTC:20240809T110000
DTEND;TZID=UTC:20240809T180000
DTSTAMP:20260425T173205
CREATED:20240604T171505Z
LAST-MODIFIED:20240604T171505Z
UID:15955-1723201200-1723226400@piervillage.com
SUMMARY:School of Rock
DESCRIPTION:Join us for performances by local artists from the School of Rock from 11AM to 6PM at the High Tide Makers + Artisan open – air Market every Friday. \n  \nPerformances are complimentary and open to the general public.
URL:https://piervillage.com/event/school-of-rock/2024-08-09/
LOCATION:Carousel Stage | Pier Village
CATEGORIES:Music
ATTACH;FMTTYPE=image/jpeg:https://piervillage.com/wp-content/uploads/2024/06/School-of-Rock.jpg
END:VEVENT
BEGIN:VEVENT
DTSTART;TZID=UTC:20240809T110000
DTEND;TZID=UTC:20240809T180000
DTSTAMP:20260425T173205
CREATED:20230531T191010Z
LAST-MODIFIED:20240722T191958Z
UID:15656-1723201200-1723226400@piervillage.com
SUMMARY:HIGH TIDE MAKERS + ARTISAN MARKET
DESCRIPTION:Join us from 11AM to 6PM at the High Tide Makers + Artisan open – air Market offering unique creations from local makers and artisans on the Carousel Promenade. \nPerformances by The School of Rock \nWhether you are looking for shopping or dining for something quick and casual or are interested in fine dining\, you’ll find it here. As the most exciting beachfront destination at the Jersey Shore\, Pier Village offers family friendly dining and an array of specialty shops and boutiques with a backdrop of breathtaking views of the ocean. \n 
URL:https://piervillage.com/event/high-tide-makers-artisan-market-3/2024-08-09/
LOCATION:Carousel Stage | Pier Village
CATEGORIES:Family,Shop
ATTACH;FMTTYPE=image/webp:https://piervillage.com/wp-content/uploads/2023/03/artisan-market.webp
END:VEVENT
BEGIN:VEVENT
DTSTART;TZID=UTC:20240803T130000
DTEND;TZID=UTC:20240803T140000
DTSTAMP:20260425T173205
CREATED:20230614T193842Z
LAST-MODIFIED:20240529T193947Z
UID:9331-1722690000-1722693600@piervillage.com
SUMMARY:Magic Show
DESCRIPTION:Voila! One of the world’s best magicians performs fun-filled magic for kids of all ages at the Carousel Stage from 1pm – 2pm. With plenty of magic\, audience participation\, comedy and ventriloquism\, this complementary show will be an event the kids will never forget! \nB \n\nDates are subject to changed/ be cancelled at any time without notice. 
URL:https://piervillage.com/event/9331/2024-08-03/
LOCATION:Carousel Stage | Pier Village
CATEGORIES:Family
ATTACH;FMTTYPE=image/png:https://piervillage.com/wp-content/uploads/2023/06/Magic-Show.png
END:VEVENT
BEGIN:VEVENT
DTSTART;TZID=UTC:20240802T110000
DTEND;TZID=UTC:20240802T180000
DTSTAMP:20260425T173205
CREATED:20240604T171505Z
LAST-MODIFIED:20240604T171505Z
UID:15954-1722596400-1722621600@piervillage.com
SUMMARY:School of Rock
DESCRIPTION:Join us for performances by local artists from the School of Rock from 11AM to 6PM at the High Tide Makers + Artisan open – air Market every Friday. \n  \nPerformances are complimentary and open to the general public.
URL:https://piervillage.com/event/school-of-rock/2024-08-02/
LOCATION:Carousel Stage | Pier Village
CATEGORIES:Music
ATTACH;FMTTYPE=image/jpeg:https://piervillage.com/wp-content/uploads/2024/06/School-of-Rock.jpg
END:VEVENT
BEGIN:VEVENT
DTSTART;TZID=UTC:20240802T110000
DTEND;TZID=UTC:20240802T180000
DTSTAMP:20260425T173205
CREATED:20230531T191010Z
LAST-MODIFIED:20240722T191958Z
UID:15655-1722596400-1722621600@piervillage.com
SUMMARY:HIGH TIDE MAKERS + ARTISAN MARKET
DESCRIPTION:Join us from 11AM to 6PM at the High Tide Makers + Artisan open – air Market offering unique creations from local makers and artisans on the Carousel Promenade. \nPerformances by The School of Rock \nWhether you are looking for shopping or dining for something quick and casual or are interested in fine dining\, you’ll find it here. As the most exciting beachfront destination at the Jersey Shore\, Pier Village offers family friendly dining and an array of specialty shops and boutiques with a backdrop of breathtaking views of the ocean. \n 
URL:https://piervillage.com/event/high-tide-makers-artisan-market-3/2024-08-02/
LOCATION:Carousel Stage | Pier Village
CATEGORIES:Family,Shop
ATTACH;FMTTYPE=image/webp:https://piervillage.com/wp-content/uploads/2023/03/artisan-market.webp
END:VEVENT
BEGIN:VEVENT
DTSTART;TZID=UTC:20240726T110000
DTEND;TZID=UTC:20240726T180000
DTSTAMP:20260425T173205
CREATED:20240604T171505Z
LAST-MODIFIED:20240604T171505Z
UID:15953-1721991600-1722016800@piervillage.com
SUMMARY:School of Rock
DESCRIPTION:Join us for performances by local artists from the School of Rock from 11AM to 6PM at the High Tide Makers + Artisan open – air Market every Friday. \n  \nPerformances are complimentary and open to the general public.
URL:https://piervillage.com/event/school-of-rock/2024-07-26/
LOCATION:Carousel Stage | Pier Village
CATEGORIES:Music
ATTACH;FMTTYPE=image/jpeg:https://piervillage.com/wp-content/uploads/2024/06/School-of-Rock.jpg
END:VEVENT
BEGIN:VEVENT
DTSTART;TZID=UTC:20240726T110000
DTEND;TZID=UTC:20240726T180000
DTSTAMP:20260425T173205
CREATED:20230531T191010Z
LAST-MODIFIED:20240722T191957Z
UID:15654-1721991600-1722016800@piervillage.com
SUMMARY:HIGH TIDE MAKERS + ARTISAN MARKET
DESCRIPTION:Join us from 11AM to 6PM at the High Tide Makers + Artisan open – air Market offering unique creations from local makers and artisans on the Carousel Promenade. \nPerformances by The School of Rock \nWhether you are looking for shopping or dining for something quick and casual or are interested in fine dining\, you’ll find it here. As the most exciting beachfront destination at the Jersey Shore\, Pier Village offers family friendly dining and an array of specialty shops and boutiques with a backdrop of breathtaking views of the ocean. \n 
URL:https://piervillage.com/event/high-tide-makers-artisan-market-3/2024-07-26/
LOCATION:Carousel Stage | Pier Village
CATEGORIES:Family,Shop
ATTACH;FMTTYPE=image/webp:https://piervillage.com/wp-content/uploads/2023/03/artisan-market.webp
END:VEVENT
BEGIN:VEVENT
DTSTART;TZID=UTC:20240721T130000
DTEND;TZID=UTC:20240721T140000
DTSTAMP:20260425T173205
CREATED:20230609T205118Z
LAST-MODIFIED:20230609T205118Z
UID:15908-1721566800-1721570400@piervillage.com
SUMMARY:BUBBLE SHOW
DESCRIPTION:Immerse yourself in the magical world of bubbles at this family-friendly interactive bubble show by the sea! Experience a wide variety of bubbles – foam bubbles\, smoke bubbles\, bubble nets\, giant bubbles\, and much more for a 45 minute complimentary show beginning at 1pm at the Carousel Stage.
URL:https://piervillage.com/event/bubble-show/2024-07-21/
LOCATION:Carousel Stage | Pier Village
CATEGORIES:Family
ATTACH;FMTTYPE=image/png:https://piervillage.com/wp-content/uploads/2023/06/bubbles.png
END:VEVENT
BEGIN:VEVENT
DTSTART;TZID=UTC:20240719T110000
DTEND;TZID=UTC:20240719T180000
DTSTAMP:20260425T173205
CREATED:20240604T171505Z
LAST-MODIFIED:20240604T171505Z
UID:15952-1721386800-1721412000@piervillage.com
SUMMARY:School of Rock
DESCRIPTION:Join us for performances by local artists from the School of Rock from 11AM to 6PM at the High Tide Makers + Artisan open – air Market every Friday. \n  \nPerformances are complimentary and open to the general public.
URL:https://piervillage.com/event/school-of-rock/2024-07-19/
LOCATION:Carousel Stage | Pier Village
CATEGORIES:Music
ATTACH;FMTTYPE=image/jpeg:https://piervillage.com/wp-content/uploads/2024/06/School-of-Rock.jpg
END:VEVENT
BEGIN:VEVENT
DTSTART;TZID=UTC:20240719T110000
DTEND;TZID=UTC:20240719T180000
DTSTAMP:20260425T173205
CREATED:20230531T191010Z
LAST-MODIFIED:20240722T191957Z
UID:15653-1721386800-1721412000@piervillage.com
SUMMARY:HIGH TIDE MAKERS + ARTISAN MARKET
DESCRIPTION:Join us from 11AM to 6PM at the High Tide Makers + Artisan open – air Market offering unique creations from local makers and artisans on the Carousel Promenade. \nPerformances by The School of Rock \nWhether you are looking for shopping or dining for something quick and casual or are interested in fine dining\, you’ll find it here. As the most exciting beachfront destination at the Jersey Shore\, Pier Village offers family friendly dining and an array of specialty shops and boutiques with a backdrop of breathtaking views of the ocean. \n 
URL:https://piervillage.com/event/high-tide-makers-artisan-market-3/2024-07-19/
LOCATION:Carousel Stage | Pier Village
CATEGORIES:Family,Shop
ATTACH;FMTTYPE=image/webp:https://piervillage.com/wp-content/uploads/2023/03/artisan-market.webp
END:VEVENT
BEGIN:VEVENT
DTSTART;TZID=UTC:20240712T110000
DTEND;TZID=UTC:20240712T180000
DTSTAMP:20260425T173205
CREATED:20240604T171505Z
LAST-MODIFIED:20240604T171505Z
UID:15951-1720782000-1720807200@piervillage.com
SUMMARY:School of Rock
DESCRIPTION:Join us for performances by local artists from the School of Rock from 11AM to 6PM at the High Tide Makers + Artisan open – air Market every Friday. \n  \nPerformances are complimentary and open to the general public.
URL:https://piervillage.com/event/school-of-rock/2024-07-12/
LOCATION:Carousel Stage | Pier Village
CATEGORIES:Music
ATTACH;FMTTYPE=image/jpeg:https://piervillage.com/wp-content/uploads/2024/06/School-of-Rock.jpg
END:VEVENT
BEGIN:VEVENT
DTSTART;TZID=UTC:20240712T110000
DTEND;TZID=UTC:20240712T180000
DTSTAMP:20260425T173205
CREATED:20230531T191010Z
LAST-MODIFIED:20240722T191957Z
UID:15652-1720782000-1720807200@piervillage.com
SUMMARY:HIGH TIDE MAKERS + ARTISAN MARKET
DESCRIPTION:Join us from 11AM to 6PM at the High Tide Makers + Artisan open – air Market offering unique creations from local makers and artisans on the Carousel Promenade. \nPerformances by The School of Rock \nWhether you are looking for shopping or dining for something quick and casual or are interested in fine dining\, you’ll find it here. As the most exciting beachfront destination at the Jersey Shore\, Pier Village offers family friendly dining and an array of specialty shops and boutiques with a backdrop of breathtaking views of the ocean. \n 
URL:https://piervillage.com/event/high-tide-makers-artisan-market-3/2024-07-12/
LOCATION:Carousel Stage | Pier Village
CATEGORIES:Family,Shop
ATTACH;FMTTYPE=image/webp:https://piervillage.com/wp-content/uploads/2023/03/artisan-market.webp
END:VEVENT
END:VCALENDAR