BEGIN:VCALENDAR
VERSION:2.0
PRODID:-//Pier Village - ECPv6.15.18//NONSGML v1.0//EN
CALSCALE:GREGORIAN
METHOD:PUBLISH
X-ORIGINAL-URL:https://piervillage.com
X-WR-CALDESC:Events for Pier Village
REFRESH-INTERVAL;VALUE=DURATION:PT1H
X-Robots-Tag:noindex
X-PUBLISHED-TTL:PT1H
BEGIN:VTIMEZONE
TZID:UTC
BEGIN:STANDARD
TZOFFSETFROM:+0000
TZOFFSETTO:+0000
TZNAME:UTC
DTSTART:20230101T000000
END:STANDARD
END:VTIMEZONE
BEGIN:VEVENT
DTSTART;TZID=UTC:20241111T080000
DTEND;TZID=UTC:20241111T170000
DTSTAMP:20260425T160721
CREATED:20241029T134643Z
LAST-MODIFIED:20241029T141521Z
UID:17298-1731312000-1731344400@piervillage.com
SUMMARY:Happy Veterans Day
DESCRIPTION:To show our appreciation\, Mason’s Famous Lobster Rolls is offering all Veterans & Active Military 50% off their orders on Veterans Day. \n*Dine In Only
URL:https://piervillage.com/event/happy-veterans-day/
LOCATION:Masons Famous Lobster Rolls\, 78 Ocean Avenue North\, Long Branch\, NJ\, 07740
CATEGORIES:Food & Drink
ATTACH;FMTTYPE=image/jpeg:https://piervillage.com/wp-content/uploads/2024/10/Mason_Veterans-Day.jpg
END:VEVENT
BEGIN:VEVENT
DTSTART;TZID=UTC:20241108T180000
DTEND;TZID=UTC:20241108T200000
DTSTAMP:20260425T160721
CREATED:20241029T141659Z
LAST-MODIFIED:20241029T141659Z
UID:17297-1731088800-1731096000@piervillage.com
SUMMARY:Fall Welcome Sign Workshop
DESCRIPTION:Join Us for a Fall Welcome Sign Workshop at Mason’s Famous Lobster Rolls. \nBYOB
URL:https://piervillage.com/event/fall-welcome-sign-workshop/
LOCATION:Masons Famous Lobster Rolls\, 78 Ocean Avenue North\, Long Branch\, NJ\, 07740
CATEGORIES:Art,Food & Drink
ATTACH;FMTTYPE=image/jpeg:https://piervillage.com/wp-content/uploads/2024/10/Mason_Fall-Welcome-Sign.jpg
END:VEVENT
BEGIN:VEVENT
DTSTART;TZID=UTC:20241011T180000
DTEND;TZID=UTC:20241011T200000
DTSTAMP:20260425T160721
CREATED:20240924T192105Z
LAST-MODIFIED:20240924T192105Z
UID:17256-1728669600-1728676800@piervillage.com
SUMMARY:Sea Glass Art Worshop
DESCRIPTION:Join us for a Sea Glass Art Workshop at Masons Famous Lobster Rolls and receive 25% off of your check for the evening!
URL:https://piervillage.com/event/sea-glass-art-worshop/
LOCATION:Masons Famous Lobster Rolls\, 78 Ocean Avenue North\, Long Branch\, NJ\, 07740
CATEGORIES:Art,Food & Drink
ATTACH;FMTTYPE=image/jpeg:https://piervillage.com/wp-content/uploads/2024/09/Sea-Glass-Art.jpg
END:VEVENT
END:VCALENDAR